BEGIN_USGS_DOQ_HEADER *
QUADRANGLE_NAME "WELLS RANCH" *
QUADRANT NE *
NORTH_LATITUDE 35 07 30.000 *
WEST_LONGITUDE -119 41 15.000 *
SOUTH_LATITUDE 35 03 45.000 *
EAST_LONGITUDE -119 37 30.000 *
PRODUCTION_DATE 1998 12 01 *
RASTER_ORDER LEFT_RIGHT/TOP_BOTTOM *
BAND_ORGANIZATION "SINGLE FILE" *
BAND_CONTENT BLACK&WHITE *
BITS_PER_PIXEL 8 *
SAMPLES_AND_LINES 6600 7710 *
HORIZONTAL_DATUM NAD83 *
HORIZONTAL_COORDINATE_SYSTEM UTM *
COORDINATE_ZONE 11 *
HORIZONTAL_UNITS METERS *
HORIZONTAL_RESOLUTION 1.000 *
SECONDARY_HORIZONTAL_DATUM NAD27 *
XY_ORIGIN 254520.000 3890520.000 *
SECONDARY_XY_ORIGIN 254602.058 3890323.025 *
NATION US *
STATE CA *
NW_QUAD_CORNER_XY 255104.112 3890211.260 *
NE_QUAD_CORNER_XY 260800.738 3890059.199 *
SE_QUAD_CORNER_XY 260617.980 3883125.594 *
SW_QUAD_CORNER_XY 254916.993 3883277.536 *
SECONDARY_NW_QUAD_XY 255098.426 3890013.398 *
SECONDARY_NE_QUAD_XY 260795.185 3889861.333 *
SECONDARY_SE_QUAD_XY 260612.432 3882927.915 *
SECONDARY_SW_QUAD_XY 254911.312 3883079.860 *
RMSE_XY 1.590 *
IMAGE_SOURCE "BLACK AND WHITE FILM" *
SOURCE_IMAGE_ID "NAPP 6924 146" *
SOURCE_IMAGE_DATE 1994 05 29 *
SOURCE_DEM_DATE 1954 00 00 *
AGENCY "WESTERN MAPPING CENTER (WMC)" *
PRODUCER "ANALYTICAL SURVEYS INC." *
PRODUCTION_SYSTEM "ORBIT OR_RECTIFY V.5.2" *
STANDARD_VERSION 1996 12 *
METADATA_DATE 1998 12 08 *
DATA_FILE_SIZE 50892600 *
BYTE_COUNT 6600 * * * * * * * * * * * * * * * * * * * * * * * * * * * * * * * * * * * * * * * *
END_USGS_HEADER *
