BEGIN_USGS_DOQ_HEADER *
QUADRANGLE_NAME "CALIENTE MOUNTAIN" *
QUADRANT NW *
NORTH_LATITUDE 35 07 30.000 *
WEST_LONGITUDE -119 52 30.000 *
SOUTH_LATITUDE 35 03 45.000 *
EAST_LONGITUDE -119 48 45.000 *
PRODUCTION_DATE 1998 12 02 *
RASTER_ORDER LEFT_RIGHT/TOP_BOTTOM *
BAND_ORGANIZATION "SINGLE FILE" *
BAND_CONTENT BLACK&WHITE *
BITS_PER_PIXEL 8 *
SAMPLES_AND_LINES 6600 7710 *
HORIZONTAL_DATUM NAD83 *
HORIZONTAL_COORDINATE_SYSTEM UTM *
COORDINATE_ZONE 11 *
HORIZONTAL_UNITS METERS *
HORIZONTAL_RESOLUTION 1.000 *
SECONDARY_HORIZONTAL_DATUM NAD27 *
XY_ORIGIN 237420.000 3891000.000 *
SECONDARY_XY_ORIGIN 237502.172 3890802.662 *
NATION US *
STATE CA *
NW_QUAD_CORNER_XY 238013.629 3890688.963 *
NE_QUAD_CORNER_XY 243710.559 3890526.142 *
SE_QUAD_CORNER_XY 243514.716 3883592.170 *
SW_QUAD_CORNER_XY 237813.422 3883754.863 *
SECONDARY_NW_QUAD_XY 238007.546 3890491.112 *
SECONDARY_NE_QUAD_XY 243704.609 3890328.287 *
SECONDARY_SE_QUAD_XY 243508.771 3883394.502 *
SECONDARY_SW_QUAD_XY 237807.345 3883557.199 *
RMSE_XY 2.330 *
IMAGE_SOURCE "BLACK AND WHITE FILM" *
SOURCE_IMAGE_ID "NAPP 6924 108" *
SOURCE_IMAGE_DATE 1994 05 29 *
SOURCE_DEM_DATE 1959 00 00 *
AGENCY "WESTERN MAPPING CENTER (WMC)" *
PRODUCER "ANALYTICAL SURVEYS INC." *
PRODUCTION_SYSTEM "ORBIT OR_RECTIFY V.5.2" *
STANDARD_VERSION 1996 12 *
METADATA_DATE 1998 12 04 *
DATA_FILE_SIZE 50892600 *
BYTE_COUNT 6600 * * * * * * * * * * * * * * * * * * * * * * * * * * * * * * * * * * * * * * * *
END_USGS_HEADER *
