BEGIN_USGS_DOQ_HEADER *
QUADRANGLE_NAME "CALIENTE MOUNTAIN" *
QUADRANT SW *
NORTH_LATITUDE 35 03 45.000 *
WEST_LONGITUDE -119 52 30.000 *
SOUTH_LATITUDE 35 00 00.000 *
EAST_LONGITUDE -119 48 45.000 *
PRODUCTION_DATE 1998 12 02 *
RASTER_ORDER LEFT_RIGHT/TOP_BOTTOM *
BAND_ORGANIZATION "SINGLE FILE" *
BAND_CONTENT BLACK&WHITE *
BITS_PER_PIXEL 8 *
SAMPLES_AND_LINES 6630 7740 *
HORIZONTAL_DATUM NAD83 *
HORIZONTAL_COORDINATE_SYSTEM UTM *
COORDINATE_ZONE 11 *
HORIZONTAL_UNITS METERS *
HORIZONTAL_RESOLUTION 1.000 *
SECONDARY_HORIZONTAL_DATUM NAD27 *
XY_ORIGIN 237210.000 3884070.000 *
SECONDARY_XY_ORIGIN 237292.392 3883872.599 *
NATION US *
STATE CA *
NW_QUAD_CORNER_XY 237813.422 3883754.863 *
NE_QUAD_CORNER_XY 243514.716 3883592.170 *
SE_QUAD_CORNER_XY 243319.179 3876658.252 *
SW_QUAD_CORNER_XY 237613.529 3876820.816 *
SECONDARY_NW_QUAD_XY 237807.345 3883557.199 *
SECONDARY_NE_QUAD_XY 243508.771 3883394.502 *
SECONDARY_SE_QUAD_XY 243313.239 3876460.771 *
SECONDARY_SW_QUAD_XY 237607.457 3876623.339 *
RMSE_XY 1.410 *
IMAGE_SOURCE "BLACK AND WHITE FILM" *
SOURCE_IMAGE_ID "NAPP 6924 110" *
SOURCE_IMAGE_DATE 1994 05 29 *
SOURCE_IMAGE_ID "NAPP 6924 137" *
SOURCE_IMAGE_DATE 1994 05 29 *
SOURCE_DEM_DATE 1959 00 00 *
AGENCY "WESTERN MAPPING CENTER (WMC)" *
PRODUCER "ANALYTICAL SURVEYS INC." *
PRODUCTION_SYSTEM "ORBIT OR_RECTIFY V.5.2" *
STANDARD_VERSION 1996 12 *
METADATA_DATE 1998 12 04 *
DATA_FILE_SIZE 51322830 *
BYTE_COUNT 6630 * * * * * * * * * * * * * * * * * * * * * * * * * * * * * * * * * * * * * *
END_USGS_HEADER *
