BEGIN_USGS_DOQ_HEADER *
QUADRANGLE_NAME "CONNER" *
QUADRANT NE *
NORTH_LATITUDE 35 15 00.000 *
WEST_LONGITUDE -119 03 45.000 *
SOUTH_LATITUDE 35 11 15.000 *
EAST_LONGITUDE -119 00 00.000 *
PRODUCTION_DATE 1998 12 07 *
RASTER_ORDER LEFT_RIGHT/TOP_BOTTOM *
BAND_ORGANIZATION "SINGLE FILE" *
BAND_CONTENT BLACK&WHITE *
BITS_PER_PIXEL 8 *
SAMPLES_AND_LINES 6540 7680 *
HORIZONTAL_DATUM NAD83 *
HORIZONTAL_COORDINATE_SYSTEM UTM *
COORDINATE_ZONE 11 *
HORIZONTAL_UNITS METERS *
HORIZONTAL_RESOLUTION 1.000 *
SECONDARY_HORIZONTAL_DATUM NAD27 *
XY_ORIGIN 311820.000 3903030.000 *
SECONDARY_XY_ORIGIN 311901.050 3902834.163 *
NATION US *
STATE CA *
NW_QUAD_CORNER_XY 312354.039 3902717.424 *
NE_QUAD_CORNER_XY 318041.069 3902601.013 *
SE_QUAD_CORNER_XY 317901.453 3895668.324 *
SW_QUAD_CORNER_XY 312210.053 3895784.645 *
SECONDARY_NW_QUAD_XY 312349.669 3902519.158 *
SECONDARY_NE_QUAD_XY 318036.832 3902402.744 *
SECONDARY_SE_QUAD_XY 317897.219 3895470.241 *
SECONDARY_SW_QUAD_XY 312205.688 3895586.564 *
RMSE_XY 0.950 *
IMAGE_SOURCE "BLACK AND WHITE FILM" *
SOURCE_IMAGE_ID "NAPP 6925 235" *
SOURCE_IMAGE_DATE 1994 06 01 *
SOURCE_DEM_DATE 1992 00 00 *
AGENCY "WESTERN MAPPING CENTER (WMC)" *
PRODUCER "ANALYTICAL SURVEYS INC." *
PRODUCTION_SYSTEM "ORBIT OR_RECTIFY V.5.2" *
STANDARD_VERSION 1996 12 *
METADATA_DATE 1998 12 09 *
DATA_FILE_SIZE 50233740 *
BYTE_COUNT 6540 * * * * * * * * * * * * * * * * * * * * * * * * * * * * * * * * * * * * * * *
END_USGS_HEADER *
