BEGIN_USGS_DOQ_HEADER *
QUADRANGLE_NAME "CONNER" *
QUADRANT SW *
NORTH_LATITUDE 35 11 15.000 *
WEST_LONGITUDE -119 07 30.000 *
SOUTH_LATITUDE 35 07 30.000 *
EAST_LONGITUDE -119 03 45.000 *
PRODUCTION_DATE 1998 12 07 *
RASTER_ORDER LEFT_RIGHT/TOP_BOTTOM *
BAND_ORGANIZATION "SINGLE FILE" *
BAND_CONTENT BLACK&WHITE *
BITS_PER_PIXEL 8 *
SAMPLES_AND_LINES 6570 7680 *
HORIZONTAL_DATUM NAD83 *
HORIZONTAL_COORDINATE_SYSTEM UTM *
COORDINATE_ZONE 11 *
HORIZONTAL_UNITS METERS *
HORIZONTAL_RESOLUTION 1.000 *
SECONDARY_HORIZONTAL_DATUM NAD27 *
XY_ORIGIN 305970.000 3896220.000 *
SECONDARY_XY_ORIGIN 306051.192 3896024.045 *
NATION US *
STATE CA *
NW_QUAD_CORNER_XY 306518.578 3895904.549 *
NE_QUAD_CORNER_XY 312210.053 3895784.645 *
SE_QUAD_CORNER_XY 312066.292 3888851.928 *
SW_QUAD_CORNER_XY 306370.455 3888971.738 *
SECONDARY_NW_QUAD_XY 306514.080 3895706.472 *
SECONDARY_NE_QUAD_XY 312205.688 3895586.564 *
SECONDARY_SE_QUAD_XY 312061.930 3888654.034 *
SECONDARY_SW_QUAD_XY 306365.960 3888773.847 *
RMSE_XY 1.100 *
IMAGE_SOURCE "BLACK AND WHITE FILM" *
SOURCE_IMAGE_ID "NAPP 6927 145" *
SOURCE_IMAGE_DATE 1994 09 04 *
SOURCE_DEM_DATE 1992 00 00 *
AGENCY "WESTERN MAPPING CENTER (WMC)" *
PRODUCER "ANALYTICAL SURVEYS INC." *
PRODUCTION_SYSTEM "ORBIT OR_RECTIFY V.5.2" *
STANDARD_VERSION 1996 12 *
METADATA_DATE 1998 12 09 *
DATA_FILE_SIZE 50464170 *
BYTE_COUNT 6570 * * * * * * * * * * * * * * * * * * * * * * * * * * * * * * * * * * * * * * * *
END_USGS_HEADER *
