BEGIN_USGS_DOQ_HEADER *
QUADRANGLE_NAME "MILLUX" *
QUADRANT NW *
NORTH_LATITUDE 35 15 00.000 *
WEST_LONGITUDE -119 15 00.000 *
SOUTH_LATITUDE 35 11 15.000 *
EAST_LONGITUDE -119 11 15.000 *
PRODUCTION_DATE 1998 12 07 *
RASTER_ORDER LEFT_RIGHT/TOP_BOTTOM *
BAND_ORGANIZATION "SINGLE FILE" *
BAND_CONTENT BLACK&WHITE *
BITS_PER_PIXEL 8 *
SAMPLES_AND_LINES 6570 7680 *
HORIZONTAL_DATUM NAD83 *
HORIZONTAL_COORDINATE_SYSTEM UTM *
COORDINATE_ZONE 11 *
HORIZONTAL_UNITS METERS *
HORIZONTAL_RESOLUTION 1.000 *
SECONDARY_HORIZONTAL_DATUM NAD27 *
XY_ORIGIN 294720.000 3903390.000 *
SECONDARY_XY_ORIGIN 294801.181 3903193.832 *
NATION US *
STATE CA *
NW_QUAD_CORNER_XY 295292.487 3903088.179 *
NE_QUAD_CORNER_XY 300979.750 3902961.007 *
SE_QUAD_CORNER_XY 300827.026 3896028.038 *
SW_QUAD_CORNER_XY 295135.392 3896155.112 *
SECONDARY_NW_QUAD_XY 295287.719 3902889.923 *
SECONDARY_NE_QUAD_XY 300975.115 3902762.747 *
SECONDARY_SE_QUAD_XY 300822.395 3895829.964 *
SECONDARY_SW_QUAD_XY 295130.629 3895957.041 *
RMSE_XY 0.610 *
IMAGE_SOURCE "BLACK AND WHITE FILM" *
SOURCE_IMAGE_ID "NAPP 6927 40" *
SOURCE_IMAGE_DATE 1994 09 04 *
SOURCE_DEM_DATE 1992 00 00 *
AGENCY "WESTERN MAPPING CENTER (WMC)" *
PRODUCER "ANALYTICAL SURVEYS INC." *
PRODUCTION_SYSTEM "ORBIT OR_RECTIFY V.5.2" *
STANDARD_VERSION 1996 12 *
METADATA_DATE 1998 12 09 *
DATA_FILE_SIZE 50464170 *
BYTE_COUNT 6570 * * * * * * * * * * * * * * * * * * * * * * * * * * * * * * * * * * * * * * * *
END_USGS_HEADER *
