BEGIN_USGS_DOQ_HEADER *
QUADRANGLE_NAME "MILLUX" *
QUADRANT SE *
NORTH_LATITUDE 35 11 15.000 *
WEST_LONGITUDE -119 11 15.000 *
SOUTH_LATITUDE 35 07 30.000 *
EAST_LONGITUDE -119 07 30.000 *
PRODUCTION_DATE 1998 12 07 *
RASTER_ORDER LEFT_RIGHT/TOP_BOTTOM *
BAND_ORGANIZATION "SINGLE FILE" *
BAND_CONTENT BLACK&WHITE *
BITS_PER_PIXEL 8 *
SAMPLES_AND_LINES 6570 7680 *
HORIZONTAL_DATUM NAD83 *
HORIZONTAL_COORDINATE_SYSTEM UTM *
COORDINATE_ZONE 11 *
HORIZONTAL_UNITS METERS *
HORIZONTAL_RESOLUTION 1.000 *
SECONDARY_HORIZONTAL_DATUM NAD27 *
XY_ORIGIN 300270.000 3896340.000 *
SECONDARY_XY_ORIGIN 300351.240 3896143.936 *
NATION US *
STATE CA *
NW_QUAD_CORNER_XY 300827.026 3896028.038 *
NE_QUAD_CORNER_XY 306518.578 3895904.549 *
SE_QUAD_CORNER_XY 306370.455 3888971.738 *
SW_QUAD_CORNER_XY 300674.539 3889095.131 *
SECONDARY_NW_QUAD_XY 300822.395 3895829.964 *
SECONDARY_NE_QUAD_XY 306514.080 3895706.472 *
SECONDARY_SE_QUAD_XY 306365.960 3888773.847 *
SECONDARY_SW_QUAD_XY 300669.912 3888897.243 *
RMSE_XY 0.990 *
IMAGE_SOURCE "BLACK AND WHITE FILM" *
SOURCE_IMAGE_ID "NAPP 6927 53" *
SOURCE_IMAGE_DATE 1994 09 04 *
SOURCE_DEM_DATE 1992 00 00 *
AGENCY "WESTERN MAPPING CENTER (WMC)" *
PRODUCER "ANALYTICAL SURVEYS INC." *
PRODUCTION_SYSTEM "ORBIT OR_RECTIFY V.5.2" *
STANDARD_VERSION 1996 12 *
METADATA_DATE 1998 12 09 *
DATA_FILE_SIZE 50464170 *
BYTE_COUNT 6570 *
*
*
*
*
*
*
*
*
*
*
*
*
*
*
*
*
*
*
*
*
*
*
*
*
*
*
*
*
*
*
*
*
*
*
*
*
*
*
*
END_USGS_HEADER *