BEGIN_USGS_DOQ_HEADER *
QUADRANGLE_NAME "BUENA VISTA LAKE BED" *
QUADRANT NE *
NORTH_LATITUDE 35 15 00.000 *
WEST_LONGITUDE -119 18 45.000 *
SOUTH_LATITUDE 35 11 15.000 *
EAST_LONGITUDE -119 15 00.000 *
PRODUCTION_DATE 1998 12 02 *
RASTER_ORDER LEFT_RIGHT/TOP_BOTTOM *
BAND_ORGANIZATION "SINGLE FILE" *
BAND_CONTENT BLACK&WHITE *
BITS_PER_PIXEL 8 *
SAMPLES_AND_LINES 6570 7710 *
HORIZONTAL_DATUM NAD83 *
HORIZONTAL_COORDINATE_SYSTEM UTM *
COORDINATE_ZONE 11 *
HORIZONTAL_UNITS METERS *
HORIZONTAL_RESOLUTION 1.000 *
SECONDARY_HORIZONTAL_DATUM NAD27 *
XY_ORIGIN 289050.000 3903540.000 *
SECONDARY_XY_ORIGIN 289131.264 3903343.755 *
NATION US *
STATE CA *
NW_QUAD_CORNER_XY 289605.142 3903218.940 *
NE_QUAD_CORNER_XY 295292.487 3903088.179 *
SE_QUAD_CORNER_XY 295135.392 3896155.112 *
SW_QUAD_CORNER_XY 289443.677 3896285.771 *
SECONDARY_NW_QUAD_XY 289600.242 3903020.686 *
SECONDARY_NE_QUAD_XY 295287.719 3902889.923 *
SECONDARY_SE_QUAD_XY 295130.629 3895957.041 *
SECONDARY_SW_QUAD_XY 289438.781 3896087.702 *
RMSE_XY 1.650 *
IMAGE_SOURCE "BLACK AND WHITE FILM" *
SOURCE_IMAGE_ID "NAPP 6925 249" *
SOURCE_IMAGE_DATE 1994 06 01 *
SOURCE_DEM_DATE 1968 00 00 *
AGENCY "WESTERN MAPPING CENTER (WMC)" *
PRODUCER "ANALYTICAL SURVEYS INC." *
PRODUCTION_SYSTEM "ORBIT OR_RECTIFY V.5.2" *
STANDARD_VERSION 1996 12 *
METADATA_DATE 1998 12 03 *
DATA_FILE_SIZE 50661270 *
BYTE_COUNT 6570 * * * * * * * * * * * * * * * * * * * * * * * * * * * * * * * * * * * * * * * *
END_USGS_HEADER *
