BEGIN_USGS_DOQ_HEADER *
QUADRANGLE_NAME "BUENA VISTA LAKE BED" *
QUADRANT SW *
NORTH_LATITUDE 35 11 15.000 *
WEST_LONGITUDE -119 22 30.000 *
SOUTH_LATITUDE 35 07 30.000 *
EAST_LONGITUDE -119 18 45.000 *
PRODUCTION_DATE 1998 12 02 *
RASTER_ORDER LEFT_RIGHT/TOP_BOTTOM *
BAND_ORGANIZATION "SINGLE FILE" *
BAND_CONTENT BLACK&WHITE *
BITS_PER_PIXEL 8 *
SAMPLES_AND_LINES 6600 7680 *
HORIZONTAL_DATUM NAD83 *
HORIZONTAL_COORDINATE_SYSTEM UTM *
COORDINATE_ZONE 11 *
HORIZONTAL_UNITS METERS *
HORIZONTAL_RESOLUTION 1.000 *
SECONDARY_HORIZONTAL_DATUM NAD27 *
XY_ORIGIN 283170.000 3896730.000 *
SECONDARY_XY_ORIGIN 283251.464 3896533.674 *
NATION US *
STATE CA *
NW_QUAD_CORNER_XY 283751.876 3896420.015 *
NE_QUAD_CORNER_XY 289443.677 3896285.771 *
SE_QUAD_CORNER_XY 289282.463 3889352.662 *
SW_QUAD_CORNER_XY 283586.298 3889486.802 *
SECONDARY_NW_QUAD_XY 283746.848 3896221.950 *
SECONDARY_NE_QUAD_XY 289438.781 3896087.702 *
SECONDARY_SE_QUAD_XY 289277.571 3889154.780 *
SECONDARY_SW_QUAD_XY 283581.274 3889288.922 *
RMSE_XY 1.260 *
IMAGE_SOURCE "BLACK AND WHITE FILM" *
SOURCE_IMAGE_ID "NAPP 6925 46" *
SOURCE_IMAGE_DATE 1994 06 01 *
SOURCE_DEM_DATE 1968 00 00 *
AGENCY "WESTERN MAPPING CENTER (WMC)" *
PRODUCER "ANALYTICAL SURVEYS INC." *
PRODUCTION_SYSTEM "ORBIT OR_RECTIFY V.5.2" *
STANDARD_VERSION 1996 12 *
METADATA_DATE 1998 12 03 *
DATA_FILE_SIZE 50694600 *
BYTE_COUNT 6600 * * * * * * * * * * * * * * * * * * * * * * * * * * * * * * * * * * * * * * * *
END_USGS_HEADER *
