BEGIN_USGS_DOQ_HEADER *
QUADRANGLE_NAME "TAFT" *
QUADRANT NE *
NORTH_LATITUDE 35 15 00.000 *
WEST_LONGITUDE -119 26 15.000 *
SOUTH_LATITUDE 35 11 15.000 *
EAST_LONGITUDE -119 22 30.000 *
PRODUCTION_DATE 1998 12 02 *
RASTER_ORDER LEFT_RIGHT/TOP_BOTTOM *
BAND_ORGANIZATION "SINGLE FILE" *
BAND_CONTENT BLACK&WHITE *
BITS_PER_PIXEL 8 *
SAMPLES_AND_LINES 6570 7710 *
HORIZONTAL_DATUM NAD83 *
HORIZONTAL_COORDINATE_SYSTEM UTM *
COORDINATE_ZONE 11 *
HORIZONTAL_UNITS METERS *
HORIZONTAL_RESOLUTION 1.000 *
SECONDARY_HORIZONTAL_DATUM NAD27 *
XY_ORIGIN 277650.000 3903810.000 *
SECONDARY_XY_ORIGIN 277731.424 3903613.591 *
NATION US *
STATE CA *
NW_QUAD_CORNER_XY 278230.197 3903491.227 *
NE_QUAD_CORNER_XY 283917.713 3903353.289 *
SE_QUAD_CORNER_XY 283751.876 3896420.015 *
SW_QUAD_CORNER_XY 278059.989 3896557.846 *
SECONDARY_NW_QUAD_XY 278225.032 3903292.979 *
SECONDARY_NE_QUAD_XY 283912.680 3903155.038 *
SECONDARY_SE_QUAD_XY 283746.848 3896221.950 *
SECONDARY_SW_QUAD_XY 278054.829 3896359.784 *
RMSE_XY 0.850 *
IMAGE_SOURCE "BLACK AND WHITE FILM" *
SOURCE_IMAGE_ID "NAPP 6918 186" *
SOURCE_IMAGE_DATE 1994 05 10 *
SOURCE_DEM_DATE 1973 00 00 *
AGENCY "WESTERN MAPPING CENTER (WMC)" *
PRODUCER "ANALYTICAL SURVEYS INC." *
PRODUCTION_SYSTEM "ORBIT OR_RECTIFY V.5.2" *
STANDARD_VERSION 1996 12 *
METADATA_DATE 1998 12 03 *
DATA_FILE_SIZE 50661270 *
BYTE_COUNT 6570 * * * * * * * * * * * * * * * * * * * * * * * * * * * * * * * * * * * * * * * *
END_USGS_HEADER *
