BEGIN_USGS_DOQ_HEADER *
QUADRANGLE_NAME "TAFT" *
QUADRANT SE *
NORTH_LATITUDE 35 11 15.000 *
WEST_LONGITUDE -119 26 15.000 *
SOUTH_LATITUDE 35 07 30.000 *
EAST_LONGITUDE -119 22 30.000 *
PRODUCTION_DATE 1998 12 02 *
RASTER_ORDER LEFT_RIGHT/TOP_BOTTOM *
BAND_ORGANIZATION "SINGLE FILE" *
BAND_CONTENT BLACK&WHITE *
BITS_PER_PIXEL 8 *
SAMPLES_AND_LINES 6570 7710 *
HORIZONTAL_DATUM NAD83 *
HORIZONTAL_COORDINATE_SYSTEM UTM *
COORDINATE_ZONE 11 *
HORIZONTAL_UNITS METERS *
HORIZONTAL_RESOLUTION 1.000 *
SECONDARY_HORIZONTAL_DATUM NAD27 *
XY_ORIGIN 277500.000 3896880.000 *
SECONDARY_XY_ORIGIN 277581.549 3896683.596 *
NATION US *
STATE CA *
NW_QUAD_CORNER_XY 278059.989 3896557.846 *
NE_QUAD_CORNER_XY 283751.876 3896420.015 *
SE_QUAD_CORNER_XY 283586.298 3889486.802 *
SW_QUAD_CORNER_XY 277890.045 3889624.525 *
SECONDARY_NW_QUAD_XY 278054.829 3896359.784 *
SECONDARY_NE_QUAD_XY 283746.848 3896221.950 *
SECONDARY_SE_QUAD_XY 283581.274 3889288.922 *
SECONDARY_SW_QUAD_XY 277884.889 3889426.649 *
RMSE_XY 1.030 *
IMAGE_SOURCE "BLACK AND WHITE FILM" *
SOURCE_IMAGE_ID "NAPP 6918 184" *
SOURCE_IMAGE_DATE 1994 05 10 *
SOURCE_DEM_DATE 1973 00 00 *
AGENCY "WESTERN MAPPING CENTER (WMC)" *
PRODUCER "ANALYTICAL SURVEYS INC." *
PRODUCTION_SYSTEM "ORBIT OR_RECTIFY V.5.2" *
STANDARD_VERSION 1996 12 *
METADATA_DATE 1998 12 03 *
DATA_FILE_SIZE 50661270 *
BYTE_COUNT 6570 * * * * * * * * * * * * * * * * * * * * * * * * * * * * * * * * * * * * * * * *
END_USGS_HEADER *
