BEGIN_USGS_DOQ_HEADER *
QUADRANGLE_NAME "TAFT" *
QUADRANT SW *
NORTH_LATITUDE 35 11 15.000 *
WEST_LONGITUDE -119 30 00.000 *
SOUTH_LATITUDE 35 07 30.000 *
EAST_LONGITUDE -119 26 15.000 *
PRODUCTION_DATE 1998 12 02 *
RASTER_ORDER LEFT_RIGHT/TOP_BOTTOM *
BAND_ORGANIZATION "SINGLE FILE" *
BAND_CONTENT BLACK&WHITE *
BITS_PER_PIXEL 8 *
SAMPLES_AND_LINES 6570 7680 *
HORIZONTAL_DATUM NAD83 *
HORIZONTAL_COORDINATE_SYSTEM UTM *
COORDINATE_ZONE 11 *
HORIZONTAL_UNITS METERS *
HORIZONTAL_RESOLUTION 1.000 *
SECONDARY_HORIZONTAL_DATUM NAD27 *
XY_ORIGIN 271800.000 3897000.000 *
SECONDARY_XY_ORIGIN 271881.636 3896803.518 *
NATION US *
STATE CA *
NW_QUAD_CORNER_XY 272368.012 3896699.264 *
NE_QUAD_CORNER_XY 278059.989 3896557.846 *
SE_QUAD_CORNER_XY 277890.045 3889624.525 *
SW_QUAD_CORNER_XY 272193.702 3889765.831 *
SECONDARY_NW_QUAD_XY 272362.719 3896501.205 *
SECONDARY_NE_QUAD_XY 278054.829 3896359.784 *
SECONDARY_SE_QUAD_XY 277884.889 3889426.649 *
SECONDARY_SW_QUAD_XY 272188.414 3889567.959 *
RMSE_XY 1.560 *
IMAGE_SOURCE "BLACK AND WHITE FILM" *
SOURCE_IMAGE_ID "NAPP 6918 181" *
SOURCE_IMAGE_DATE 1994 05 10 *
SOURCE_IMAGE_ID "NAPP 6918 94" *
SOURCE_IMAGE_DATE 1994 05 10 *
SOURCE_DEM_DATE 1973 00 00 *
AGENCY "WESTERN MAPPING CENTER (WMC)" *
PRODUCER "ANALYTICAL SURVEYS INC." *
PRODUCTION_SYSTEM "ORBIT OR_RECTIFY V.5.2" *
STANDARD_VERSION 1996 12 *
METADATA_DATE 1998 12 03 *
DATA_FILE_SIZE 50464170 *
BYTE_COUNT 6570 * * * * * * * * * * * * * * * * * * * * * * * * * * * * * * * * * * * * * *
END_USGS_HEADER *
