BEGIN_USGS_DOQ_HEADER *
QUADRANGLE_NAME "FELLOWS" *
QUADRANT SE *
NORTH_LATITUDE 35 11 15.000 *
WEST_LONGITUDE -119 33 45.000 *
SOUTH_LATITUDE 35 07 30.000 *
EAST_LONGITUDE -119 30 00.000 *
PRODUCTION_DATE 1998 12 02 *
RASTER_ORDER LEFT_RIGHT/TOP_BOTTOM *
BAND_ORGANIZATION "SINGLE FILE" *
BAND_CONTENT BLACK&WHITE *
BITS_PER_PIXEL 8 *
SAMPLES_AND_LINES 6570 7710 *
HORIZONTAL_DATUM NAD83 *
HORIZONTAL_COORDINATE_SYSTEM UTM *
COORDINATE_ZONE 11 *
HORIZONTAL_UNITS METERS *
HORIZONTAL_RESOLUTION 1.000 *
SECONDARY_HORIZONTAL_DATUM NAD27 *
XY_ORIGIN 266100.000 3897150.000 *
SECONDARY_XY_ORIGIN 266181.719 3896953.365 *
NATION US *
STATE CA *
NW_QUAD_CORNER_XY 266675.944 3896844.268 *
NE_QUAD_CORNER_XY 272368.012 3896699.264 *
SE_QUAD_CORNER_XY 272193.702 3889765.831 *
SW_QUAD_CORNER_XY 266497.268 3889910.723 *
SECONDARY_NW_QUAD_XY 266670.518 3896646.213 *
SECONDARY_NE_QUAD_XY 272362.719 3896501.205 *
SECONDARY_SE_QUAD_XY 272188.414 3889567.959 *
SECONDARY_SW_QUAD_XY 266491.847 3889712.853 *
RMSE_XY 2.220 *
IMAGE_SOURCE "BLACK AND WHITE FILM" *
SOURCE_IMAGE_ID "NAPP 6918 94" *
SOURCE_IMAGE_DATE 1994 05 10 *
SOURCE_DEM_DATE 1973 00 00 *
AGENCY "WESTERN MAPPING CENTER (WMC)" *
PRODUCER "ANALYTICAL SURVEYS INC." *
PRODUCTION_SYSTEM "ORBIT OR_RECTIFY V.5.2" *
STANDARD_VERSION 1996 12 *
METADATA_DATE 1998 12 03 *
DATA_FILE_SIZE 50661270 *
BYTE_COUNT 6570 * * * * * * * * * * * * * * * * * * * * * * * * * * * * * * * * * * * * * * * *
END_USGS_HEADER *
