BEGIN_USGS_DOQ_HEADER *
QUADRANGLE_NAME "PANORAMA HILLS" *
QUADRANT NE *
NORTH_LATITUDE 35 15 00.000 *
WEST_LONGITUDE -119 41 15.000 *
SOUTH_LATITUDE 35 11 15.000 *
EAST_LONGITUDE -119 37 30.000 *
PRODUCTION_DATE 1998 12 02 *
RASTER_ORDER LEFT_RIGHT/TOP_BOTTOM *
BAND_ORGANIZATION "SINGLE FILE" *
BAND_CONTENT BLACK&WHITE *
BITS_PER_PIXEL 8 *
SAMPLES_AND_LINES 6600 7710 *
HORIZONTAL_DATUM NAD83 *
HORIZONTAL_COORDINATE_SYSTEM UTM *
COORDINATE_ZONE 11 *
HORIZONTAL_UNITS METERS *
HORIZONTAL_RESOLUTION 1.000 *
SECONDARY_HORIZONTAL_DATUM NAD27 *
XY_ORIGIN 254880.000 3904380.000 *
SECONDARY_XY_ORIGIN 254961.706 3904183.143 *
NATION US *
STATE CA *
NW_QUAD_CORNER_XY 255479.226 3904078.878 *
NE_QUAD_CORNER_XY 261167.110 3903926.579 *
SE_QUAD_CORNER_XY 260983.781 3896992.861 *
SW_QUAD_CORNER_XY 255291.523 3897145.041 *
SECONDARY_NW_QUAD_XY 255473.530 3903880.644 *
SECONDARY_NE_QUAD_XY 261161.547 3903728.342 *
SECONDARY_SE_QUAD_XY 260978.224 3896794.809 *
SECONDARY_SW_QUAD_XY 255285.832 3896946.993 *
RMSE_XY 2.000 *
IMAGE_SOURCE "BLACK AND WHITE FILM" *
SOURCE_IMAGE_ID "NAPP 6924 142" *
SOURCE_IMAGE_DATE 1994 05 29 *
SOURCE_DEM_DATE 1943 00 00 *
AGENCY "WESTERN MAPPING CENTER (WMC)" *
PRODUCER "ANALYTICAL SURVEYS INC." *
PRODUCTION_SYSTEM "ORBIT OR_RECTIFY V.5.2" *
STANDARD_VERSION 1996 12 *
METADATA_DATE 1998 12 04 *
DATA_FILE_SIZE 50892600 *
BYTE_COUNT 6600 * * * * * * * * * * * * * * * * * * * * * * * * * * * * * * * * * * * * * * * *
END_USGS_HEADER *
