BEGIN_USGS_DOQ_HEADER *
QUADRANGLE_NAME "PANORAMA HILLS" *
QUADRANT SW *
NORTH_LATITUDE 35 11 15.000 *
WEST_LONGITUDE -119 45 00.000 *
SOUTH_LATITUDE 35 07 30.000 *
EAST_LONGITUDE -119 41 15.000 *
PRODUCTION_DATE 1998 12 02 *
RASTER_ORDER LEFT_RIGHT/TOP_BOTTOM *
BAND_ORGANIZATION "SINGLE FILE" *
BAND_CONTENT BLACK&WHITE *
BITS_PER_PIXEL 8 *
SAMPLES_AND_LINES 6600 7740 *
HORIZONTAL_DATUM NAD83 *
HORIZONTAL_COORDINATE_SYSTEM UTM *
COORDINATE_ZONE 11 *
HORIZONTAL_UNITS METERS *
HORIZONTAL_RESOLUTION 1.000 *
SECONDARY_HORIZONTAL_DATUM NAD27 *
XY_ORIGIN 249000.000 3897630.000 *
SECONDARY_XY_ORIGIN 249081.962 3897432.943 *
NATION US *
STATE CA *
NW_QUAD_CORNER_XY 249599.166 3897300.810 *
NE_QUAD_CORNER_XY 255291.523 3897145.041 *
SE_QUAD_CORNER_XY 255104.112 3890211.260 *
SW_QUAD_CORNER_XY 249407.386 3890366.908 *
SECONDARY_NW_QUAD_XY 249593.343 3897102.766 *
SECONDARY_NE_QUAD_XY 255285.832 3896946.993 *
SECONDARY_SE_QUAD_XY 255098.426 3890013.398 *
SECONDARY_SW_QUAD_XY 249401.569 3890169.049 *
RMSE_XY 1.660 *
IMAGE_SOURCE "BLACK AND WHITE FILM" *
SOURCE_IMAGE_ID "NAPP 6924 101" *
SOURCE_IMAGE_DATE 1994 05 29 *
SOURCE_DEM_DATE 1943 00 00 *
AGENCY "WESTERN MAPPING CENTER (WMC)" *
PRODUCER "ANALYTICAL SURVEYS INC." *
PRODUCTION_SYSTEM "ORBIT OR_RECTIFY V.5.2" *
STANDARD_VERSION 1996 12 *
METADATA_DATE 1998 12 04 *
DATA_FILE_SIZE 51090600 *
BYTE_COUNT 6600 * * * * * * * * * * * * * * * * * * * * * * * * * * * * * * * * * * * * * * * *
END_USGS_HEADER *
