BEGIN_USGS_DOQ_HEADER *
QUADRANGLE_NAME "PAINTED ROCK" *
QUADRANT SW *
NORTH_LATITUDE 35 11 15.000 *
WEST_LONGITUDE -119 52 30.000 *
SOUTH_LATITUDE 35 07 30.000 *
EAST_LONGITUDE -119 48 45.000 *
PRODUCTION_DATE 1998 12 02 *
RASTER_ORDER LEFT_RIGHT/TOP_BOTTOM *
BAND_ORGANIZATION "SINGLE FILE" *
BAND_CONTENT BLACK&WHITE *
BITS_PER_PIXEL 8 *
SAMPLES_AND_LINES 6630 7710 *
HORIZONTAL_DATUM NAD83 *
HORIZONTAL_COORDINATE_SYSTEM UTM *
COORDINATE_ZONE 11 *
HORIZONTAL_UNITS METERS *
HORIZONTAL_RESOLUTION 1.000 *
SECONDARY_HORIZONTAL_DATUM NAD27 *
XY_ORIGIN 237600.000 3897930.000 *
SECONDARY_XY_ORIGIN 237681.953 3897732.726 *
NATION US *
STATE CA *
NW_QUAD_CORNER_XY 238214.147 3897623.118 *
NE_QUAD_CORNER_XY 243906.708 3897460.169 *
SE_QUAD_CORNER_XY 243710.559 3890526.142 *
SW_QUAD_CORNER_XY 238013.629 3890688.963 *
SECONDARY_NW_QUAD_XY 238208.059 3897425.080 *
SECONDARY_NE_QUAD_XY 243900.753 3897262.128 *
SECONDARY_SE_QUAD_XY 243704.609 3890328.287 *
SECONDARY_SW_QUAD_XY 238007.546 3890491.112 *
RMSE_XY 1.430 *
IMAGE_SOURCE "BLACK AND WHITE FILM" *
SOURCE_IMAGE_ID "NAPP 6925 92" *
SOURCE_IMAGE_DATE 1994 06 01 *
SOURCE_DEM_DATE 1953 00 00 *
AGENCY "WESTERN MAPPING CENTER (WMC)" *
PRODUCER "ANALYTICAL SURVEYS INC." *
PRODUCTION_SYSTEM "ORBIT OR_RECTIFY V.5.2" *
STANDARD_VERSION 1996 12 *
METADATA_DATE 1998 12 04 *
DATA_FILE_SIZE 51123930 *
BYTE_COUNT 6630 * * * * * * * * * * * * * * * * * * * * * * * * * * * * * * * * * * * * * * * *
END_USGS_HEADER *
