BEGIN_USGS_DOQ_HEADER *
QUADRANGLE_NAME "GOSFORD" *
QUADRANT NE *
NORTH_LATITUDE 35 22 30.000 *
WEST_LONGITUDE -119 03 45.000 *
SOUTH_LATITUDE 35 18 45.000 *
EAST_LONGITUDE -119 00 00.000 *
PRODUCTION_DATE 1998 12 03 *
RASTER_ORDER LEFT_RIGHT/TOP_BOTTOM *
BAND_ORGANIZATION "SINGLE FILE" *
BAND_CONTENT BLACK&WHITE *
BITS_PER_PIXEL 8 *
SAMPLES_AND_LINES 6540 7680 *
HORIZONTAL_DATUM NAD83 *
HORIZONTAL_COORDINATE_SYSTEM UTM *
COORDINATE_ZONE 11 *
HORIZONTAL_UNITS METERS *
HORIZONTAL_RESOLUTION 1.000 *
SECONDARY_HORIZONTAL_DATUM NAD27 *
XY_ORIGIN 312090.000 3916890.000 *
SECONDARY_XY_ORIGIN 312170.771 3916694.117 *
NATION US *
STATE CA *
NW_QUAD_CORNER_XY 312642.680 3916583.170 *
NE_QUAD_CORNER_XY 318320.953 3916466.579 *
SE_QUAD_CORNER_XY 318180.903 3909533.764 *
SW_QUAD_CORNER_XY 312498.247 3909650.266 *
SECONDARY_NW_QUAD_XY 312638.302 3916384.536 *
SECONDARY_NE_QUAD_XY 318316.708 3916267.943 *
SECONDARY_SE_QUAD_XY 318176.662 3909335.312 *
SECONDARY_SW_QUAD_XY 312493.874 3909451.816 *
RMSE_XY 1.020 *
IMAGE_SOURCE "BLACK AND WHITE FILM" *
SOURCE_IMAGE_ID "NAPP 6925 231" *
SOURCE_IMAGE_DATE 1994 06 01 *
SOURCE_DEM_DATE 1973 00 00 *
AGENCY "WESTERN MAPPING CENTER (WMC)" *
PRODUCER "ANALYTICAL SURVEYS INC." *
PRODUCTION_SYSTEM "ORBIT OR_RECTIFY V.5.2" *
STANDARD_VERSION 1996 12 *
METADATA_DATE 1998 12 08 *
DATA_FILE_SIZE 50233740 *
BYTE_COUNT 6540 * * * * * * * * * * * * * * * * * * * * * * * * * * * * * * * * * * * * * * *
END_USGS_HEADER *
