BEGIN_USGS_DOQ_HEADER *
QUADRANGLE_NAME "GOSFORD" *
QUADRANT NW *
NORTH_LATITUDE 35 22 30.000 *
WEST_LONGITUDE -119 07 30.000 *
SOUTH_LATITUDE 35 18 45.000 *
EAST_LONGITUDE -119 03 45.000 *
PRODUCTION_DATE 1998 12 03 *
RASTER_ORDER LEFT_RIGHT/TOP_BOTTOM *
BAND_ORGANIZATION "SINGLE FILE" *
BAND_CONTENT BLACK&WHITE *
BITS_PER_PIXEL 8 *
SAMPLES_AND_LINES 6540 7680 *
HORIZONTAL_DATUM NAD83 *
HORIZONTAL_COORDINATE_SYSTEM UTM *
COORDINATE_ZONE 11 *
HORIZONTAL_UNITS METERS *
HORIZONTAL_RESOLUTION 1.000 *
SECONDARY_HORIZONTAL_DATUM NAD27 *
XY_ORIGIN 306420.000 3917010.000 *
SECONDARY_XY_ORIGIN 306500.839 3916813.999 *
NATION US *
STATE CA *
NW_QUAD_CORNER_XY 306964.333 3916703.353 *
NE_QUAD_CORNER_XY 312642.680 3916583.170 *
SE_QUAD_CORNER_XY 312498.247 3909650.266 *
SW_QUAD_CORNER_XY 306815.518 3909770.356 *
SECONDARY_NW_QUAD_XY 306959.823 3916504.722 *
SECONDARY_NE_QUAD_XY 312638.302 3916384.536 *
SECONDARY_SE_QUAD_XY 312493.874 3909451.816 *
SECONDARY_SW_QUAD_XY 306811.011 3909571.909 *
RMSE_XY 1.130 *
IMAGE_SOURCE "BLACK AND WHITE FILM" *
SOURCE_IMAGE_ID "NAPP 6927 139" *
SOURCE_IMAGE_DATE 1994 09 04 *
SOURCE_DEM_DATE 1973 00 00 *
AGENCY "WESTERN MAPPING CENTER (WMC)" *
PRODUCER "ANALYTICAL SURVEYS INC." *
PRODUCTION_SYSTEM "ORBIT OR_RECTIFY V.5.2" *
STANDARD_VERSION 1996 12 *
METADATA_DATE 1998 12 08 *
DATA_FILE_SIZE 50233740 *
BYTE_COUNT 6540 * * * * * * * * * * * * * * * * * * * * * * * * * * * * * * * * * * * * * * *
END_USGS_HEADER *
