BEGIN_USGS_DOQ_HEADER *
QUADRANGLE_NAME "GOSFORD" *
QUADRANT SE *
NORTH_LATITUDE 35 18 45.000 *
WEST_LONGITUDE -119 03 45.000 *
SOUTH_LATITUDE 35 15 00.000 *
EAST_LONGITUDE -119 00 00.000 *
PRODUCTION_DATE 1998 12 03 *
RASTER_ORDER LEFT_RIGHT/TOP_BOTTOM *
BAND_ORGANIZATION "SINGLE FILE" *
BAND_CONTENT BLACK&WHITE *
BITS_PER_PIXEL 8 *
SAMPLES_AND_LINES 6570 7680 *
HORIZONTAL_DATUM NAD83 *
HORIZONTAL_COORDINATE_SYSTEM UTM *
COORDINATE_ZONE 11 *
HORIZONTAL_UNITS METERS *
HORIZONTAL_RESOLUTION 1.000 *
SECONDARY_HORIZONTAL_DATUM NAD27 *
XY_ORIGIN 311940.000 3909960.000 *
SECONDARY_XY_ORIGIN 312020.907 3909764.139 *
NATION US *
STATE CA *
NW_QUAD_CORNER_XY 312498.247 3909650.266 *
NE_QUAD_CORNER_XY 318180.903 3909533.764 *
SE_QUAD_CORNER_XY 318041.069 3902601.013 *
SW_QUAD_CORNER_XY 312354.039 3902717.424 *
SECONDARY_NW_QUAD_XY 312493.874 3909451.816 *
SECONDARY_NE_QUAD_XY 318176.662 3909335.312 *
SECONDARY_SE_QUAD_XY 318036.832 3902402.744 *
SECONDARY_SW_QUAD_XY 312349.669 3902519.158 *
RMSE_XY 1.260 *
IMAGE_SOURCE "BLACK AND WHITE FILM" *
SOURCE_IMAGE_ID "NAPP 6925 233" *
SOURCE_IMAGE_DATE 1994 06 01 *
SOURCE_DEM_DATE 1973 00 00 *
AGENCY "WESTERN MAPPING CENTER (WMC)" *
PRODUCER "ANALYTICAL SURVEYS INC." *
PRODUCTION_SYSTEM "ORBIT OR_RECTIFY V.5.2" *
STANDARD_VERSION 1996 12 *
METADATA_DATE 1998 12 08 *
DATA_FILE_SIZE 50464170 *
BYTE_COUNT 6570 * * * * * * * * * * * * * * * * * * * * * * * * * * * * * * * * * * * * * * * *
END_USGS_HEADER *
