BEGIN_USGS_DOQ_HEADER *
QUADRANGLE_NAME "GOSFORD" *
QUADRANT SW *
NORTH_LATITUDE 35 18 45.000 *
WEST_LONGITUDE -119 07 30.000 *
SOUTH_LATITUDE 35 15 00.000 *
EAST_LONGITUDE -119 03 45.000 *
PRODUCTION_DATE 1998 12 03 *
RASTER_ORDER LEFT_RIGHT/TOP_BOTTOM *
BAND_ORGANIZATION "SINGLE FILE" *
BAND_CONTENT BLACK&WHITE *
BITS_PER_PIXEL 8 *
SAMPLES_AND_LINES 6540 7680 *
HORIZONTAL_DATUM NAD83 *
HORIZONTAL_COORDINATE_SYSTEM UTM *
COORDINATE_ZONE 11 *
HORIZONTAL_UNITS METERS *
HORIZONTAL_RESOLUTION 1.000 *
SECONDARY_HORIZONTAL_DATUM NAD27 *
XY_ORIGIN 306270.000 3910080.000 *
SECONDARY_XY_ORIGIN 306350.963 3909884.025 *
NATION US *
STATE CA *
NW_QUAD_CORNER_XY 306815.518 3909770.356 *
NE_QUAD_CORNER_XY 312498.247 3909650.266 *
SE_QUAD_CORNER_XY 312354.039 3902717.424 *
SW_QUAD_CORNER_XY 306666.933 3902837.422 *
SECONDARY_NW_QUAD_XY 306811.011 3909571.909 *
SECONDARY_NE_QUAD_XY 312493.874 3909451.816 *
SECONDARY_SE_QUAD_XY 312349.669 3902519.158 *
SECONDARY_SW_QUAD_XY 306662.430 3902639.159 *
RMSE_XY 0.670 *
IMAGE_SOURCE "BLACK AND WHITE FILM" *
SOURCE_IMAGE_ID "NAPP 6927 141" *
SOURCE_IMAGE_DATE 1994 09 04 *
SOURCE_DEM_DATE 1973 00 00 *
AGENCY "WESTERN MAPPING CENTER (WMC)" *
PRODUCER "ANALYTICAL SURVEYS INC." *
PRODUCTION_SYSTEM "ORBIT OR_RECTIFY V.5.2" *
STANDARD_VERSION 1996 12 *
METADATA_DATE 1998 12 08 *
DATA_FILE_SIZE 50233740 *
BYTE_COUNT 6540 * * * * * * * * * * * * * * * * * * * * * * * * * * * * * * * * * * * * * * *
END_USGS_HEADER *
