BEGIN_USGS_DOQ_HEADER *
QUADRANGLE_NAME "STEVENS" *
QUADRANT NW *
NORTH_LATITUDE 35 22 30.000 *
WEST_LONGITUDE -119 15 00.000 *
SOUTH_LATITUDE 35 18 45.000 *
EAST_LONGITUDE -119 11 15.000 *
PRODUCTION_DATE 1998 12 03 *
RASTER_ORDER LEFT_RIGHT/TOP_BOTTOM *
BAND_ORGANIZATION "SINGLE FILE" *
BAND_CONTENT BLACK&WHITE *
BITS_PER_PIXEL 8 *
SAMPLES_AND_LINES 6540 7710 *
HORIZONTAL_DATUM NAD83 *
HORIZONTAL_COORDINATE_SYSTEM UTM *
COORDINATE_ZONE 11 *
HORIZONTAL_UNITS METERS *
HORIZONTAL_RESOLUTION 1.000 *
SECONDARY_HORIZONTAL_DATUM NAD27 *
XY_ORIGIN 295050.000 3917280.000 *
SECONDARY_XY_ORIGIN 295130.974 3917083.760 *
NATION US *
STATE CA *
NW_QUAD_CORNER_XY 295607.407 3916954.496 *
NE_QUAD_CORNER_XY 301285.909 3916827.128 *
SE_QUAD_CORNER_XY 301132.711 3909894.037 *
SW_QUAD_CORNER_XY 295449.825 3910021.307 *
SECONDARY_NW_QUAD_XY 295602.631 3916755.871 *
SECONDARY_NE_QUAD_XY 301281.266 3916628.500 *
SECONDARY_SE_QUAD_XY 301128.072 3909695.592 *
SECONDARY_SW_QUAD_XY 295445.053 3909822.866 *
RMSE_XY 0.670 *
IMAGE_SOURCE "BLACK AND WHITE FILM" *
SOURCE_IMAGE_ID "NAPP 6927 36" *
SOURCE_IMAGE_DATE 1994 09 04 *
SOURCE_DEM_DATE 1992 00 00 *
AGENCY "WESTERN MAPPING CENTER (WMC)" *
PRODUCER "ANALYTICAL SURVEYS INC." *
PRODUCTION_SYSTEM "ORBIT OR_RECTIFY V.5.2" *
STANDARD_VERSION 1996 12 *
METADATA_DATE 1998 12 08 *
DATA_FILE_SIZE 50429940 *
BYTE_COUNT 6540 * * * * * * * * * * * * * * * * * * * * * * * * * * * * * * * * * * * * * * *
END_USGS_HEADER *
