BEGIN_USGS_DOQ_HEADER *
QUADRANGLE_NAME "STEVENS" *
QUADRANT SE *
NORTH_LATITUDE 35 18 45.000 *
WEST_LONGITUDE -119 11 15.000 *
SOUTH_LATITUDE 35 15 00.000 *
EAST_LONGITUDE -119 07 30.000 *
PRODUCTION_DATE 1998 12 03 *
RASTER_ORDER LEFT_RIGHT/TOP_BOTTOM *
BAND_ORGANIZATION "SINGLE FILE" *
BAND_CONTENT BLACK&WHITE *
BITS_PER_PIXEL 8 *
SAMPLES_AND_LINES 6570 7680 *
HORIZONTAL_DATUM NAD83 *
HORIZONTAL_COORDINATE_SYSTEM UTM *
COORDINATE_ZONE 11 *
HORIZONTAL_UNITS METERS *
HORIZONTAL_RESOLUTION 1.000 *
SECONDARY_HORIZONTAL_DATUM NAD27 *
XY_ORIGIN 300570.000 3910200.000 *
SECONDARY_XY_ORIGIN 300651.019 3910003.910 *
NATION US *
STATE CA *
NW_QUAD_CORNER_XY 301132.711 3909894.037 *
NE_QUAD_CORNER_XY 306815.518 3909770.356 *
SE_QUAD_CORNER_XY 306666.933 3902837.422 *
SW_QUAD_CORNER_XY 300979.750 3902961.007 *
SECONDARY_NW_QUAD_XY 301128.072 3909695.592 *
SECONDARY_NE_QUAD_XY 306811.011 3909571.909 *
SECONDARY_SE_QUAD_XY 306662.430 3902639.159 *
SECONDARY_SW_QUAD_XY 300975.115 3902762.747 *
RMSE_XY 0.730 *
IMAGE_SOURCE "BLACK AND WHITE FILM" *
SOURCE_IMAGE_ID "NAPP 6927 57" *
SOURCE_IMAGE_DATE 1994 09 04 *
SOURCE_DEM_DATE 1992 00 00 *
AGENCY "WESTERN MAPPING CENTER (WMC)" *
PRODUCER "ANALYTICAL SURVEYS INC." *
PRODUCTION_SYSTEM "ORBIT OR_RECTIFY V.5.2" *
STANDARD_VERSION 1996 12 *
METADATA_DATE 1998 12 08 *
DATA_FILE_SIZE 50464170 *
BYTE_COUNT 6570 * * * * * * * * * * * * * * * * * * * * * * * * * * * * * * * * * * * * * * * *
END_USGS_HEADER *
