BEGIN_USGS_DOQ_HEADER *
QUADRANGLE_NAME "TUPMAN" *
QUADRANT NE *
NORTH_LATITUDE 35 22 30.000 *
WEST_LONGITUDE -119 18 45.000 *
SOUTH_LATITUDE 35 18 45.000 *
EAST_LONGITUDE -119 15 00.000 *
PRODUCTION_DATE 1998 12 03 *
RASTER_ORDER LEFT_RIGHT/TOP_BOTTOM *
BAND_ORGANIZATION "SINGLE FILE" *
BAND_CONTENT BLACK&WHITE *
BITS_PER_PIXEL 8 *
SAMPLES_AND_LINES 6540 7710 *
HORIZONTAL_DATUM NAD83 *
HORIZONTAL_COORDINATE_SYSTEM UTM *
COORDINATE_ZONE 11 *
HORIZONTAL_UNITS METERS *
HORIZONTAL_RESOLUTION 1.000 *
SECONDARY_HORIZONTAL_DATUM NAD27 *
XY_ORIGIN 289380.000 3917400.000 *
SECONDARY_XY_ORIGIN 289461.062 3917203.673 *
NATION US *
STATE CA *
NW_QUAD_CORNER_XY 289928.824 3917085.458 *
NE_QUAD_CORNER_XY 295607.407 3916954.496 *
SE_QUAD_CORNER_XY 295449.825 3910021.307 *
SW_QUAD_CORNER_XY 289766.858 3910152.169 *
SECONDARY_NW_QUAD_XY 289923.916 3916886.836 *
SECONDARY_NE_QUAD_XY 295602.631 3916755.871 *
SECONDARY_SE_QUAD_XY 295445.053 3909822.866 *
SECONDARY_SW_QUAD_XY 289761.954 3909953.731 *
RMSE_XY 0.730 *
IMAGE_SOURCE "BLACK AND WHITE FILM" *
SOURCE_IMAGE_ID "NAPP 6925 253" *
SOURCE_IMAGE_DATE 1994 06 01 *
SOURCE_DEM_DATE 1973 00 00 *
AGENCY "WESTERN MAPPING CENTER (WMC)" *
PRODUCER "ANALYTICAL SURVEYS INC." *
PRODUCTION_SYSTEM "ORBIT OR_RECTIFY V.5.2" *
STANDARD_VERSION 1996 12 *
METADATA_DATE 1998 12 07 *
DATA_FILE_SIZE 50429940 *
BYTE_COUNT 6540 * * * * * * * * * * * * * * * * * * * * * * * * * * * * * * * * * * * * * * *
END_USGS_HEADER *
