BEGIN_USGS_DOQ_HEADER *
QUADRANGLE_NAME "TUPMAN" *
QUADRANT SW *
NORTH_LATITUDE 35 18 45.000 *
WEST_LONGITUDE -119 22 30.000 *
SOUTH_LATITUDE 35 15 00.000 *
EAST_LONGITUDE -119 18 45.000 *
PRODUCTION_DATE 1998 12 03 *
RASTER_ORDER LEFT_RIGHT/TOP_BOTTOM *
BAND_ORGANIZATION "SINGLE FILE" *
BAND_CONTENT BLACK&WHITE *
BITS_PER_PIXEL 8 *
SAMPLES_AND_LINES 6540 7680 *
HORIZONTAL_DATUM NAD83 *
HORIZONTAL_COORDINATE_SYSTEM UTM *
COORDINATE_ZONE 11 *
HORIZONTAL_UNITS METERS *
HORIZONTAL_RESOLUTION 1.000 *
SECONDARY_HORIZONTAL_DATUM NAD27 *
XY_ORIGIN 283530.000 3910590.000 *
SECONDARY_XY_ORIGIN 283611.244 3910393.626 *
NATION US *
STATE CA *
NW_QUAD_CORNER_XY 284083.807 3910286.621 *
NE_QUAD_CORNER_XY 289766.858 3910152.169 *
SE_QUAD_CORNER_XY 289605.142 3903218.940 *
SW_QUAD_CORNER_XY 283917.713 3903353.289 *
SECONDARY_NW_QUAD_XY 284078.770 3910088.186 *
SECONDARY_NE_QUAD_XY 289761.954 3909953.731 *
SECONDARY_SE_QUAD_XY 289600.242 3903020.686 *
SECONDARY_SW_QUAD_XY 283912.680 3903155.038 *
RMSE_XY 0.720 *
IMAGE_SOURCE "BLACK AND WHITE FILM" *
SOURCE_IMAGE_ID "NAPP 6925 42" *
SOURCE_IMAGE_DATE 1994 06 01 *
SOURCE_DEM_DATE 1973 00 00 *
AGENCY "WESTERN MAPPING CENTER (WMC)" *
PRODUCER "ANALYTICAL SURVEYS INC." *
PRODUCTION_SYSTEM "ORBIT OR_RECTIFY V.5.2" *
STANDARD_VERSION 1996 12 *
METADATA_DATE 1998 12 07 *
DATA_FILE_SIZE 50233740 *
BYTE_COUNT 6540 * * * * * * * * * * * * * * * * * * * * * * * * * * * * * * * * * * * * * * *
END_USGS_HEADER *
