BEGIN_USGS_DOQ_HEADER *
QUADRANGLE_NAME "EAST ELK HILLS" *
QUADRANT NE *
NORTH_LATITUDE 35 22 30.000 *
WEST_LONGITUDE -119 26 15.000 *
SOUTH_LATITUDE 35 18 45.000 *
EAST_LONGITUDE -119 22 30.000 *
PRODUCTION_DATE 1998 12 03 *
RASTER_ORDER LEFT_RIGHT/TOP_BOTTOM *
BAND_ORGANIZATION "SINGLE FILE" *
BAND_CONTENT BLACK&WHITE *
BITS_PER_PIXEL 8 *
SAMPLES_AND_LINES 6570 7710 *
HORIZONTAL_DATUM NAD83 *
HORIZONTAL_COORDINATE_SYSTEM UTM *
COORDINATE_ZONE 11 *
HORIZONTAL_UNITS METERS *
HORIZONTAL_RESOLUTION 1.000 *
SECONDARY_HORIZONTAL_DATUM NAD27 *
XY_ORIGIN 278010.000 3917670.000 *
SECONDARY_XY_ORIGIN 278091.230 3917473.491 *
NATION US *
STATE CA *
NW_QUAD_CORNER_XY 278571.407 3917358.164 *
NE_QUAD_CORNER_XY 284250.158 3917220.014 *
SE_QUAD_CORNER_XY 284083.807 3910286.621 *
SW_QUAD_CORNER_XY 278400.670 3910424.666 *
SECONDARY_NW_QUAD_XY 278566.233 3917159.548 *
SECONDARY_NE_QUAD_XY 284245.117 3917021.395 *
SECONDARY_SE_QUAD_XY 284078.770 3910088.186 *
SECONDARY_SW_QUAD_XY 278395.501 3910226.234 *
RMSE_XY 0.570 *
IMAGE_SOURCE "BLACK AND WHITE FILM" *
SOURCE_IMAGE_ID "NAPP 6918 190" *
SOURCE_IMAGE_DATE 1994 05 10 *
SOURCE_DEM_DATE 1973 00 00 *
AGENCY "WESTERN MAPPING CENTER (WMC)" *
PRODUCER "ANALYTICAL SURVEYS INC." *
PRODUCTION_SYSTEM "ORBIT OR_RECTIFY V.5.2" *
STANDARD_VERSION 1996 12 *
METADATA_DATE 1998 12 07 *
DATA_FILE_SIZE 50661270 *
BYTE_COUNT 6570 * * * * * * * * * * * * * * * * * * * * * * * * * * * * * * * * * * * * * * * *
END_USGS_HEADER *
