BEGIN_USGS_DOQ_HEADER *
QUADRANGLE_NAME "WEST ELK HILLS" *
QUADRANT NE *
NORTH_LATITUDE 35 22 30.000 *
WEST_LONGITUDE -119 33 45.000 *
SOUTH_LATITUDE 35 18 45.000 *
EAST_LONGITUDE -119 30 00.000 *
PRODUCTION_DATE 1998 12 03 *
RASTER_ORDER LEFT_RIGHT/TOP_BOTTOM *
BAND_ORGANIZATION "SINGLE FILE" *
BAND_CONTENT BLACK&WHITE *
BITS_PER_PIXEL 8 *
SAMPLES_AND_LINES 6570 7710 *
HORIZONTAL_DATUM NAD83 *
HORIZONTAL_COORDINATE_SYSTEM UTM *
COORDINATE_ZONE 11 *
HORIZONTAL_UNITS METERS *
HORIZONTAL_RESOLUTION 1.000 *
SECONDARY_HORIZONTAL_DATUM NAD27 *
XY_ORIGIN 266640.000 3917970.000 *
SECONDARY_XY_ORIGIN 266721.428 3917773.270 *
NATION US *
STATE CA *
NW_QUAD_CORNER_XY 267213.640 3917645.249 *
NE_QUAD_CORNER_XY 272892.569 3917499.909 *
SE_QUAD_CORNER_XY 272717.445 3910566.302 *
SW_QUAD_CORNER_XY 267034.130 3910711.532 *
SECONDARY_NW_QUAD_XY 267208.201 3917446.641 *
SECONDARY_NE_QUAD_XY 272887.262 3917301.297 *
SECONDARY_SE_QUAD_XY 272712.143 3910367.874 *
SECONDARY_SW_QUAD_XY 267028.695 3910513.106 *
RMSE_XY 1.360 *
IMAGE_SOURCE "BLACK AND WHITE FILM" *
SOURCE_IMAGE_ID "NAPP 6918 100" *
SOURCE_IMAGE_DATE 1994 05 10 *
SOURCE_DEM_DATE 1973 00 00 *
AGENCY "WESTERN MAPPING CENTER (WMC)" *
PRODUCER "ANALYTICAL SURVEYS INC." *
PRODUCTION_SYSTEM "ORBIT OR_RECTIFY V.5.2" *
STANDARD_VERSION 1996 12 *
METADATA_DATE 1998 12 07 *
DATA_FILE_SIZE 50661270 *
BYTE_COUNT 6570 * * * * * * * * * * * * * * * * * * * * * * * * * * * * * * * * * * * * * * * *
END_USGS_HEADER *
