BEGIN_USGS_DOQ_HEADER *
QUADRANGLE_NAME "WEST ELK HILLS" *
QUADRANT SE *
NORTH_LATITUDE 35 18 45.000 *
WEST_LONGITUDE -119 33 45.000 *
SOUTH_LATITUDE 35 15 00.000 *
EAST_LONGITUDE -119 30 00.000 *
PRODUCTION_DATE 1998 12 03 *
RASTER_ORDER LEFT_RIGHT/TOP_BOTTOM *
BAND_ORGANIZATION "SINGLE FILE" *
BAND_CONTENT BLACK&WHITE *
BITS_PER_PIXEL 8 *
SAMPLES_AND_LINES 6570 7710 *
HORIZONTAL_DATUM NAD83 *
HORIZONTAL_COORDINATE_SYSTEM UTM *
COORDINATE_ZONE 11 *
HORIZONTAL_UNITS METERS *
HORIZONTAL_RESOLUTION 1.000 *
SECONDARY_HORIZONTAL_DATUM NAD27 *
XY_ORIGIN 266460.000 3911040.000 *
SECONDARY_XY_ORIGIN 266541.495 3910843.327 *
NATION US *
STATE CA *
NW_QUAD_CORNER_XY 267034.130 3910711.532 *
NE_QUAD_CORNER_XY 272717.445 3910566.302 *
SE_QUAD_CORNER_XY 272542.593 3903632.754 *
SW_QUAD_CORNER_XY 266854.898 3903777.871 *
SECONDARY_NW_QUAD_XY 267028.695 3910513.106 *
SECONDARY_NE_QUAD_XY 272712.143 3910367.874 *
SECONDARY_SE_QUAD_XY 272537.296 3903434.510 *
SECONDARY_SW_QUAD_XY 266849.468 3903579.631 *
RMSE_XY 2.420 *
IMAGE_SOURCE "BLACK AND WHITE FILM" *
SOURCE_IMAGE_ID "NAPP 6918 98" *
SOURCE_IMAGE_DATE 1994 05 10 *
SOURCE_DEM_DATE 1973 00 00 *
AGENCY "WESTERN MAPPING CENTER (WMC)" *
PRODUCER "ANALYTICAL SURVEYS INC." *
PRODUCTION_SYSTEM "ORBIT OR_RECTIFY V.5.2" *
STANDARD_VERSION 1996 12 *
METADATA_DATE 1998 12 07 *
DATA_FILE_SIZE 50661270 *
BYTE_COUNT 6570 * * * * * * * * * * * * * * * * * * * * * * * * * * * * * * * * * * * * * * * *
END_USGS_HEADER *
