BEGIN_USGS_DOQ_HEADER *
QUADRANGLE_NAME "REWARD" *
QUADRANT NW *
NORTH_LATITUDE 35 22 30.000 *
WEST_LONGITUDE -119 45 00.000 *
SOUTH_LATITUDE 35 18 45.000 *
EAST_LONGITUDE -119 41 15.000 *
PRODUCTION_DATE 1998 12 01 *
RASTER_ORDER LEFT_RIGHT/TOP_BOTTOM *
BAND_ORGANIZATION "SINGLE FILE" *
BAND_CONTENT BLACK&WHITE *
BITS_PER_PIXEL 8 *
SAMPLES_AND_LINES 6600 7710 *
HORIZONTAL_DATUM NAD83 *
HORIZONTAL_COORDINATE_SYSTEM UTM *
COORDINATE_ZONE 11 *
HORIZONTAL_UNITS METERS *
HORIZONTAL_RESOLUTION 1.000 *
SECONDARY_HORIZONTAL_DATUM NAD27 *
XY_ORIGIN 249570.000 3918420.000 *
SECONDARY_XY_ORIGIN 249651.785 3918222.891 *
NATION US *
STATE CA *
NW_QUAD_CORNER_XY 250176.294 3918102.849 *
NE_QUAD_CORNER_XY 255855.505 3917946.719 *
SE_QUAD_CORNER_XY 255667.220 3911012.770 *
SW_QUAD_CORNER_XY 249983.620 3911168.781 *
SECONDARY_NW_QUAD_XY 250170.456 3917904.251 *
SECONDARY_NE_QUAD_XY 255849.800 3917748.117 *
SECONDARY_SE_QUAD_XY 255661.519 3910814.352 *
SECONDARY_SW_QUAD_XY 249977.787 3910970.366 *
RMSE_XY 1.497 *
IMAGE_SOURCE "BLACK AND WHITE FILM" *
SOURCE_IMAGE_ID "NAPP 6916 206" *
SOURCE_IMAGE_DATE 1994 05 02 *
SOURCE_DEM_DATE 1973 00 00 *
AGENCY "WESTERN MAPPING CENTER (WMC)" *
PRODUCER "ANALYTICAL SURVEYS INC." *
PRODUCTION_SYSTEM "ORBIT OR_RECTIFY V.5.2" *
STANDARD_VERSION 1996 12 *
METADATA_DATE 1998 12 02 *
DATA_FILE_SIZE 50892600 *
BYTE_COUNT 6600 * * * * * * * * * * * * * * * * * * * * * * * * * * * * * * * * * * * * * * * *
END_USGS_HEADER *
