BEGIN_USGS_DOQ_HEADER *
QUADRANGLE_NAME "REWARD" *
QUADRANT SE *
NORTH_LATITUDE 35 18 45.000 *
WEST_LONGITUDE -119 41 15.000 *
SOUTH_LATITUDE 35 15 00.000 *
EAST_LONGITUDE -119 37 30.000 *
PRODUCTION_DATE 1998 12 01 *
RASTER_ORDER LEFT_RIGHT/TOP_BOTTOM *
BAND_ORGANIZATION "SINGLE FILE" *
BAND_CONTENT BLACK&WHITE *
BITS_PER_PIXEL 8 *
SAMPLES_AND_LINES 6570 7740 *
HORIZONTAL_DATUM NAD83 *
HORIZONTAL_COORDINATE_SYSTEM UTM *
COORDINATE_ZONE 11 *
HORIZONTAL_UNITS METERS *
HORIZONTAL_RESOLUTION 1.000 *
SECONDARY_HORIZONTAL_DATUM NAD27 *
XY_ORIGIN 255090.000 3911340.000 *
SECONDARY_XY_ORIGIN 255171.683 3911143.082 *
NATION US *
STATE CA *
NW_QUAD_CORNER_XY 255667.220 3911012.770 *
NE_QUAD_CORNER_XY 261350.723 3910860.354 *
SE_QUAD_CORNER_XY 261167.110 3903926.579 *
SW_QUAD_CORNER_XY 255479.226 3904078.878 *
SECONDARY_NW_QUAD_XY 255661.519 3910814.352 *
SECONDARY_NE_QUAD_XY 261345.155 3910661.932 *
SECONDARY_SE_QUAD_XY 261161.547 3903728.342 *
SECONDARY_SW_QUAD_XY 255473.530 3903880.644 *
RMSE_XY 2.620 *
IMAGE_SOURCE "BLACK AND WHITE FILM" *
SOURCE_IMAGE_ID "NAPP 6918 10" *
SOURCE_IMAGE_DATE 1994 05 10 *
SOURCE_DEM_DATE 1973 00 00 *
AGENCY "WESTERN MAPPING CENTER (WMC)" *
PRODUCER "ANALYTICAL SURVEYS INC." *
PRODUCTION_SYSTEM "ORBIT OR_RECTIFY V.5.2" *
STANDARD_VERSION 1996 12 *
METADATA_DATE 1998 12 02 *
DATA_FILE_SIZE 50858370 *
BYTE_COUNT 6570 * * * * * * * * * * * * * * * * * * * * * * * * * * * * * * * * * * * * * * * *
END_USGS_HEADER *
