BEGIN_USGS_DOQ_HEADER *
QUADRANGLE_NAME "REWARD" *
QUADRANT SW *
NORTH_LATITUDE 35 18 45.000 *
WEST_LONGITUDE -119 45 00.000 *
SOUTH_LATITUDE 35 15 00.000 *
EAST_LONGITUDE -119 41 15.000 *
PRODUCTION_DATE 1998 12 01 *
RASTER_ORDER LEFT_RIGHT/TOP_BOTTOM *
BAND_ORGANIZATION "SINGLE FILE" *
BAND_CONTENT BLACK&WHITE *
BITS_PER_PIXEL 8 *
SAMPLES_AND_LINES 6600 7740 *
HORIZONTAL_DATUM NAD83 *
HORIZONTAL_COORDINATE_SYSTEM UTM *
COORDINATE_ZONE 11 *
HORIZONTAL_UNITS METERS *
HORIZONTAL_RESOLUTION 1.000 *
SECONDARY_HORIZONTAL_DATUM NAD27 *
XY_ORIGIN 249390.000 3911490.000 *
SECONDARY_XY_ORIGIN 249471.776 3911292.958 *
NATION US *
STATE CA *
NW_QUAD_CORNER_XY 249983.620 3911168.781 *
NE_QUAD_CORNER_XY 255667.220 3911012.770 *
SE_QUAD_CORNER_XY 255479.226 3904078.878 *
SW_QUAD_CORNER_XY 249791.244 3904234.768 *
SECONDARY_NW_QUAD_XY 249977.787 3910970.366 *
SECONDARY_NE_QUAD_XY 255661.519 3910814.352 *
SECONDARY_SE_QUAD_XY 255473.530 3903880.644 *
SECONDARY_SW_QUAD_XY 249785.416 3904036.538 *
RMSE_XY 2.758 *
IMAGE_SOURCE "BLACK AND WHITE FILM" *
SOURCE_IMAGE_ID "NAPP 6924 105" *
SOURCE_IMAGE_DATE 1994 05 29 *
SOURCE_IMAGE_ID "NAPP 6925 75" *
SOURCE_IMAGE_DATE 1994 06 01 *
SOURCE_DEM_DATE 1973 00 00 *
AGENCY "WESTERN MAPPING CENTER (WMC)" *
PRODUCER "ANALYTICAL SURVEYS INC." *
PRODUCTION_SYSTEM "ORBIT OR_RECTIFY V.5.2" *
STANDARD_VERSION 1996 12 *
METADATA_DATE 1998 12 02 *
DATA_FILE_SIZE 51090600 *
BYTE_COUNT 6600 * * * * * * * * * * * * * * * * * * * * * * * * * * * * * * * * * * * * * *
END_USGS_HEADER *
