BEGIN_USGS_DOQ_HEADER *
QUADRANGLE_NAME "MCKITTRICK SUMMIT" *
QUADRANT NE *
NORTH_LATITUDE 35 22 30.000 *
WEST_LONGITUDE -119 48 45.000 *
SOUTH_LATITUDE 35 18 45.000 *
EAST_LONGITUDE -119 45 00.000 *
PRODUCTION_DATE 1998 12 01 *
RASTER_ORDER LEFT_RIGHT/TOP_BOTTOM *
BAND_ORGANIZATION "SINGLE FILE" *
BAND_CONTENT BLACK&WHITE *
BITS_PER_PIXEL 8 *
SAMPLES_AND_LINES 6600 7710 *
HORIZONTAL_DATUM NAD83 *
HORIZONTAL_COORDINATE_SYSTEM UTM *
COORDINATE_ZONE 11 *
HORIZONTAL_UNITS METERS *
HORIZONTAL_RESOLUTION 1.000 *
SECONDARY_HORIZONTAL_DATUM NAD27 *
XY_ORIGIN 243900.000 3918570.000 *
SECONDARY_XY_ORIGIN 243981.820 3918372.749 *
NATION US *
STATE CA *
NW_QUAD_CORNER_XY 244496.985 3918262.577 *
NE_QUAD_CORNER_XY 250176.294 3918102.849 *
SE_QUAD_CORNER_XY 249983.620 3911168.781 *
SW_QUAD_CORNER_XY 244299.921 3911328.386 *
SECONDARY_NW_QUAD_XY 244491.014 3918063.982 *
SECONDARY_NE_QUAD_XY 250170.456 3917904.251 *
SECONDARY_SE_QUAD_XY 249977.787 3910970.366 *
SECONDARY_SW_QUAD_XY 244293.955 3911129.975 *
RMSE_XY 2.545 *
IMAGE_SOURCE "BLACK AND WHITE FILM" *
SOURCE_IMAGE_ID "NAPP 6925 77" *
SOURCE_IMAGE_DATE 1994 06 01 *
SOURCE_IMAGE_ID "NAPP 6925 79" *
SOURCE_IMAGE_DATE 1994 06 01 *
SOURCE_IMAGE_ID "NAPP 6925 75" *
SOURCE_IMAGE_DATE 1994 06 01 *
SOURCE_DEM_DATE 1959 00 00 *
AGENCY "WESTERN MAPPING CENTER (WMC)" *
PRODUCER "ANALYTICAL SURVEYS INC." *
PRODUCTION_SYSTEM "ORBIT OR_RECTIFY V.5.2" *
STANDARD_VERSION 1996 12 *
METADATA_DATE 1998 12 02 *
DATA_FILE_SIZE 50892600 *
BYTE_COUNT 6600 * * * * * * * * * * * * * * * * * * * * * * * * * * * * * * * * * * * *
END_USGS_HEADER *
