BEGIN_USGS_DOQ_HEADER *
QUADRANGLE_NAME "MCKITTRICK SUMMIT" *
QUADRANT NW *
NORTH_LATITUDE 35 22 30.000 *
WEST_LONGITUDE -119 52 30.000 *
SOUTH_LATITUDE 35 18 45.000 *
EAST_LONGITUDE -119 48 45.000 *
PRODUCTION_DATE 1998 12 01 *
RASTER_ORDER LEFT_RIGHT/TOP_BOTTOM *
BAND_ORGANIZATION "SINGLE FILE" *
BAND_CONTENT BLACK&WHITE *
BITS_PER_PIXEL 8 *
SAMPLES_AND_LINES 6600 7740 *
HORIZONTAL_DATUM NAD83 *
HORIZONTAL_COORDINATE_SYSTEM UTM *
COORDINATE_ZONE 11 *
HORIZONTAL_UNITS METERS *
HORIZONTAL_RESOLUTION 1.000 *
SECONDARY_HORIZONTAL_DATUM NAD27 *
XY_ORIGIN 238200.000 3918750.000 *
SECONDARY_XY_ORIGIN 238281.864 3918552.605 *
NATION US *
STATE CA *
NW_QUAD_CORNER_XY 238817.574 3918425.902 *
NE_QUAD_CORNER_XY 244496.985 3918262.577 *
SE_QUAD_CORNER_XY 244299.921 3911328.386 *
SW_QUAD_CORNER_XY 238616.120 3911491.587 *
SECONDARY_NW_QUAD_XY 238811.470 3918227.312 *
SECONDARY_NE_QUAD_XY 244491.014 3918063.982 *
SECONDARY_SE_QUAD_XY 244293.955 3911129.975 *
SECONDARY_SW_QUAD_XY 238610.021 3911293.180 *
RMSE_XY 2.828 *
IMAGE_SOURCE "BLACK AND WHITE FILM" *
SOURCE_IMAGE_ID "NAPP 6925 86" *
SOURCE_IMAGE_DATE 1994 06 01 *
SOURCE_IMAGE_ID "NAPP 6925 84" *
SOURCE_IMAGE_DATE 1994 06 01 *
SOURCE_IMAGE_ID "NAPP 6925 77" *
SOURCE_IMAGE_DATE 1994 06 01 *
SOURCE_DEM_DATE 1959 00 00 *
AGENCY "WESTERN MAPPING CENTER (WMC)" *
PRODUCER "ANALYTICAL SURVEYS INC." *
PRODUCTION_SYSTEM "ORBIT OR_RECTIFY V.5.2" *
STANDARD_VERSION 1996 12 *
METADATA_DATE 1998 12 02 *
DATA_FILE_SIZE 51090600 *
BYTE_COUNT 6600 * * * * * * * * * * * * * * * * * * * * * * * * * * * * * * * * * * * *
END_USGS_HEADER *
