BEGIN_USGS_DOQ_HEADER *
QUADRANGLE_NAME "MCKITTRICK SUMMIT" *
QUADRANT SW *
NORTH_LATITUDE 35 18 45.000 *
WEST_LONGITUDE -119 52 30.000 *
SOUTH_LATITUDE 35 15 00.000 *
EAST_LONGITUDE -119 48 45.000 *
PRODUCTION_DATE 1998 12 01 *
RASTER_ORDER LEFT_RIGHT/TOP_BOTTOM *
BAND_ORGANIZATION "SINGLE FILE" *
BAND_CONTENT BLACK&WHITE *
BITS_PER_PIXEL 8 *
SAMPLES_AND_LINES 6600 7740 *
HORIZONTAL_DATUM NAD83 *
HORIZONTAL_COORDINATE_SYSTEM UTM *
COORDINATE_ZONE 11 *
HORIZONTAL_UNITS METERS *
HORIZONTAL_RESOLUTION 1.000 *
SECONDARY_HORIZONTAL_DATUM NAD27 *
XY_ORIGIN 238020.000 3911820.000 *
SECONDARY_XY_ORIGIN 238101.798 3911622.696 *
NATION US *
STATE CA *
NW_QUAD_CORNER_XY 238616.120 3911491.587 *
NE_QUAD_CORNER_XY 244299.921 3911328.386 *
SE_QUAD_CORNER_XY 244103.162 3904394.250 *
SW_QUAD_CORNER_XY 238414.978 3904557.325 *
SECONDARY_NW_QUAD_XY 238610.021 3911293.180 *
SECONDARY_NE_QUAD_XY 244293.955 3911129.975 *
SECONDARY_SE_QUAD_XY 244097.201 3904196.024 *
SECONDARY_SW_QUAD_XY 238408.884 3904359.103 *
RMSE_XY 1.385 *
IMAGE_SOURCE "BLACK AND WHITE FILM" *
SOURCE_IMAGE_ID "NAPP 6925 88" *
SOURCE_IMAGE_DATE 1994 06 01 *
SOURCE_DEM_DATE 1959 00 00 *
AGENCY "WESTERN MAPPING CENTER (WMC)" *
PRODUCER "ANALYTICAL SURVEYS INC." *
PRODUCTION_SYSTEM "ORBIT OR_RECTIFY V.5.2" *
STANDARD_VERSION 1996 12 *
METADATA_DATE 1998 12 02 *
DATA_FILE_SIZE 51090600 *
BYTE_COUNT 6600 * * * * * * * * * * * * * * * * * * * * * * * * * * * * * * * * * * * * * * * *
END_USGS_HEADER *
