BEGIN_USGS_DOQ_HEADER *
QUADRANGLE_NAME "SIMMLER" *
QUADRANT SW *
NORTH_LATITUDE 35 18 45.000 *
WEST_LONGITUDE -120 00 00.000 *
SOUTH_LATITUDE 35 15 00.000 *
EAST_LONGITUDE -119 56 15.000 *
PRODUCTION_DATE 1998 12 01 *
RASTER_ORDER LEFT_RIGHT/TOP_BOTTOM *
BAND_ORGANIZATION "SINGLE FILE" *
BAND_CONTENT BLACK&WHITE *
BITS_PER_PIXEL 8 *
SAMPLES_AND_LINES 6600 7740 *
HORIZONTAL_DATUM NAD83 *
HORIZONTAL_COORDINATE_SYSTEM UTM *
COORDINATE_ZONE 11 *
HORIZONTAL_UNITS METERS *
HORIZONTAL_RESOLUTION 1.000 *
SECONDARY_HORIZONTAL_DATUM NAD27 *
XY_ORIGIN 226650.000 3912150.000 *
SECONDARY_XY_ORIGIN 226731.827 3911952.431 *
NATION US *
STATE CA *
NW_QUAD_CORNER_XY 227248.205 3911828.777 *
NE_QUAD_CORNER_XY 232932.215 3911658.384 *
SE_QUAD_CORNER_XY 232726.689 3904723.994 *
SW_QUAD_CORNER_XY 227038.293 3904894.256 *
SECONDARY_NW_QUAD_XY 227241.840 3911630.378 *
SECONDARY_NE_QUAD_XY 232925.984 3911459.981 *
SECONDARY_SE_QUAD_XY 232720.463 3904525.775 *
SECONDARY_SW_QUAD_XY 227031.935 3904696.042 *
RMSE_XY 1.146 *
IMAGE_SOURCE "BLACK AND WHITE FILM" *
SOURCE_IMAGE_ID "NAPP 6924 44" *
SOURCE_IMAGE_DATE 1994 05 29 *
SOURCE_DEM_DATE 1978 00 00 *
AGENCY "WESTERN MAPPING CENTER (WMC)" *
PRODUCER "ANALYTICAL SURVEYS INC." *
PRODUCTION_SYSTEM "ORBIT OR_RECTIFY V.5.2" *
STANDARD_VERSION 1996 12 *
METADATA_DATE 1998 12 02 *
DATA_FILE_SIZE 51090600 *
BYTE_COUNT 6600 * * * * * * * * * * * * * * * * * * * * * * * * * * * * * * * * * * * * * * * *
END_USGS_HEADER *
