BEGIN_USGS_DOQ_HEADER *
QUADRANGLE_NAME "OILDALE" *
QUADRANT SW *
NORTH_LATITUDE 35 26 15.000 *
WEST_LONGITUDE -119 07 30.000 *
SOUTH_LATITUDE 35 22 30.000 *
EAST_LONGITUDE -119 03 45.000 *
PRODUCTION_DATE 1998 12 03 *
RASTER_ORDER LEFT_RIGHT/TOP_BOTTOM *
BAND_ORGANIZATION "SINGLE FILE" *
BAND_CONTENT BLACK&WHITE *
BITS_PER_PIXEL 8 *
SAMPLES_AND_LINES 6540 7680 *
HORIZONTAL_DATUM NAD83 *
HORIZONTAL_COORDINATE_SYSTEM UTM *
COORDINATE_ZONE 11 *
HORIZONTAL_UNITS METERS *
HORIZONTAL_RESOLUTION 1.000 *
SECONDARY_HORIZONTAL_DATUM NAD27 *
XY_ORIGIN 306570.000 3923940.000 *
SECONDARY_XY_ORIGIN 306650.714 3923743.973 *
NATION US *
STATE CA *
NW_QUAD_CORNER_XY 307113.378 3923636.411 *
NE_QUAD_CORNER_XY 312787.336 3923516.137 *
SE_QUAD_CORNER_XY 312642.680 3916583.170 *
SW_QUAD_CORNER_XY 306964.333 3916703.353 *
SECONDARY_NW_QUAD_XY 307108.864 3923437.597 *
SECONDARY_NE_QUAD_XY 312782.954 3923317.320 *
SECONDARY_SE_QUAD_XY 312638.302 3916384.536 *
SECONDARY_SW_QUAD_XY 306959.823 3916504.722 *
RMSE_XY 0.870 *
IMAGE_SOURCE "BLACK AND WHITE FILM" *
SOURCE_IMAGE_ID "NAPP 6927 137" *
SOURCE_IMAGE_DATE 1994 09 04 *
SOURCE_DEM_DATE 1952 00 00 *
AGENCY "WESTERN MAPPING CENTER (WMC)" *
PRODUCER "ANALYTICAL SURVEYS INC." *
PRODUCTION_SYSTEM "ORBIT OR_RECTIFY V.5.2" *
STANDARD_VERSION 1996 12 *
METADATA_DATE 1998 12 09 *
DATA_FILE_SIZE 50233740 *
BYTE_COUNT 6540 * * * * * * * * * * * * * * * * * * * * * * * * * * * * * * * * * * * * * * *
END_USGS_HEADER *
