BEGIN_USGS_DOQ_HEADER *
QUADRANGLE_NAME "RIO BRAVO" *
QUADRANT NE *
NORTH_LATITUDE 35 30 00.000 *
WEST_LONGITUDE -119 18 45.000 *
SOUTH_LATITUDE 35 26 15.000 *
EAST_LONGITUDE -119 15 00.000 *
PRODUCTION_DATE 1998 12 02 *
RASTER_ORDER LEFT_RIGHT/TOP_BOTTOM *
BAND_ORGANIZATION "SINGLE FILE" *
BAND_CONTENT BLACK&WHITE *
BITS_PER_PIXEL 8 *
SAMPLES_AND_LINES 6570 7680 *
HORIZONTAL_DATUM NAD83 *
HORIZONTAL_COORDINATE_SYSTEM UTM *
COORDINATE_ZONE 11 *
HORIZONTAL_UNITS METERS *
HORIZONTAL_RESOLUTION 1.000 *
SECONDARY_HORIZONTAL_DATUM NAD27 *
XY_ORIGIN 289680.000 3931260.000 *
SECONDARY_XY_ORIGIN 289760.862 3931063.595 *
NATION US *
STATE CA *
NW_QUAD_CORNER_XY 290253.508 3930952.217 *
NE_QUAD_CORNER_XY 295923.302 3930821.056 *
SE_QUAD_CORNER_XY 295765.233 3923887.746 *
SW_QUAD_CORNER_XY 290091.041 3924018.807 *
SECONDARY_NW_QUAD_XY 290248.592 3930753.230 *
SECONDARY_NE_QUAD_XY 295918.518 3930622.066 *
SECONDARY_SE_QUAD_XY 295760.453 3923688.938 *
SECONDARY_SW_QUAD_XY 290086.129 3923820.002 *
RMSE_XY 0.740 *
IMAGE_SOURCE "BLACK AND WHITE FILM" *
SOURCE_IMAGE_ID "NAPP 6925 257" *
SOURCE_IMAGE_DATE 1994 06 01 *
SOURCE_DEM_DATE 1968 00 00 *
AGENCY "WESTERN MAPPING CENTER (WMC)" *
PRODUCER "ANALYTICAL SURVEYS INC." *
PRODUCTION_SYSTEM "ORBIT OR_RECTIFY V.5.2" *
STANDARD_VERSION 1996 12 *
METADATA_DATE 1998 12 07 *
DATA_FILE_SIZE 50464170 *
BYTE_COUNT 6570 * * * * * * * * * * * * * * * * * * * * * * * * * * * * * * * * * * * * * * * *
END_USGS_HEADER *
