BEGIN_USGS_DOQ_HEADER *
QUADRANGLE_NAME "RIO BRAVO" *
QUADRANT SW *
NORTH_LATITUDE 35 26 15.000 *
WEST_LONGITUDE -119 22 30.000 *
SOUTH_LATITUDE 35 22 30.000 *
EAST_LONGITUDE -119 18 45.000 *
PRODUCTION_DATE 1998 12 02 *
RASTER_ORDER LEFT_RIGHT/TOP_BOTTOM *
BAND_ORGANIZATION "SINGLE FILE" *
BAND_CONTENT BLACK&WHITE *
BITS_PER_PIXEL 8 *
SAMPLES_AND_LINES 6540 7710 *
HORIZONTAL_DATUM NAD83 *
HORIZONTAL_COORDINATE_SYSTEM UTM *
COORDINATE_ZONE 11 *
HORIZONTAL_UNITS METERS *
HORIZONTAL_RESOLUTION 1.000 *
SECONDARY_HORIZONTAL_DATUM NAD27 *
XY_ORIGIN 283860.000 3924480.000 *
SECONDARY_XY_ORIGIN 283941.047 3924283.538 *
NATION US *
STATE CA *
NW_QUAD_CORNER_XY 284416.767 3924153.465 *
NE_QUAD_CORNER_XY 290091.041 3924018.807 *
SE_QUAD_CORNER_XY 289928.824 3917085.458 *
SW_QUAD_CORNER_XY 284250.158 3917220.014 *
SECONDARY_NW_QUAD_XY 284411.721 3923954.664 *
SECONDARY_NE_QUAD_XY 290086.129 3923820.002 *
SECONDARY_SE_QUAD_XY 289923.916 3916886.836 *
SECONDARY_SW_QUAD_XY 284245.117 3917021.395 *
RMSE_XY 0.670 *
IMAGE_SOURCE "BLACK AND WHITE FILM" *
SOURCE_IMAGE_ID "NAPP 6925 38" *
SOURCE_IMAGE_DATE 1994 06 01 *
SOURCE_DEM_DATE 1968 00 00 *
AGENCY "WESTERN MAPPING CENTER (WMC)" *
PRODUCER "ANALYTICAL SURVEYS INC." *
PRODUCTION_SYSTEM "ORBIT OR_RECTIFY V.5.2" *
STANDARD_VERSION 1996 12 *
METADATA_DATE 1998 12 07 *
DATA_FILE_SIZE 50429940 *
BYTE_COUNT 6540 * * * * * * * * * * * * * * * * * * * * * * * * * * * * * * * * * * * * * * *
END_USGS_HEADER *
