BEGIN_USGS_DOQ_HEADER *
QUADRANGLE_NAME "BUTTONWILLOW" *
QUADRANT NW *
NORTH_LATITUDE 35 30 00.000 *
WEST_LONGITUDE -119 30 00.000 *
SOUTH_LATITUDE 35 26 15.000 *
EAST_LONGITUDE -119 26 15.000 *
PRODUCTION_DATE 1998 12 02 *
RASTER_ORDER LEFT_RIGHT/TOP_BOTTOM *
BAND_ORGANIZATION "SINGLE FILE" *
BAND_CONTENT BLACK&WHITE *
BITS_PER_PIXEL 8 *
SAMPLES_AND_LINES 6570 7710 *
HORIZONTAL_DATUM NAD83 *
HORIZONTAL_COORDINATE_SYSTEM UTM *
COORDINATE_ZONE 11 *
HORIZONTAL_UNITS METERS *
HORIZONTAL_RESOLUTION 1.000 *
SECONDARY_HORIZONTAL_DATUM NAD27 *
XY_ORIGIN 272670.000 3931680.000 *
SECONDARY_XY_ORIGIN 272751.124 3931483.294 *
NATION US *
STATE CA *
NW_QUAD_CORNER_XY 273243.627 3931367.297 *
NE_QUAD_CORNER_XY 278913.673 3931225.337 *
SE_QUAD_CORNER_XY 278742.408 3924291.721 *
SW_QUAD_CORNER_XY 273067.963 3924433.574 *
SECONDARY_NW_QUAD_XY 273238.311 3931168.319 *
SECONDARY_NE_QUAD_XY 278908.490 3931026.356 *
SECONDARY_SE_QUAD_XY 278737.230 3924092.922 *
SECONDARY_SW_QUAD_XY 273062.651 3924234.778 *
RMSE_XY 0.950 *
IMAGE_SOURCE "BLACK AND WHITE FILM" *
SOURCE_IMAGE_ID "NAPP 6918 171" *
SOURCE_IMAGE_DATE 1994 05 10 *
SOURCE_DEM_DATE 1973 00 00 *
AGENCY "WESTERN MAPPING CENTER (WMC)" *
PRODUCER "ANALYTICAL SURVEYS INC." *
PRODUCTION_SYSTEM "ORBIT OR_RECTIFY V.5.2" *
STANDARD_VERSION 1996 12 *
METADATA_DATE 1998 12 07 *
DATA_FILE_SIZE 50661270 *
BYTE_COUNT 6570 * * * * * * * * * * * * * * * * * * * * * * * * * * * * * * * * * * * * * * * *
END_USGS_HEADER *
