BEGIN_USGS_DOQ_HEADER *
QUADRANGLE_NAME "LOKERN" *
QUADRANT SW *
NORTH_LATITUDE 35 26 15.000 *
WEST_LONGITUDE -119 37 30.000 *
SOUTH_LATITUDE 35 22 30.000 *
EAST_LONGITUDE -119 33 45.000 *
PRODUCTION_DATE 1998 12 02 *
RASTER_ORDER LEFT_RIGHT/TOP_BOTTOM *
BAND_ORGANIZATION "SINGLE FILE" *
BAND_CONTENT BLACK&WHITE *
BITS_PER_PIXEL 8 *
SAMPLES_AND_LINES 6600 7710 *
HORIZONTAL_DATUM NAD83 *
HORIZONTAL_COORDINATE_SYSTEM UTM *
COORDINATE_ZONE 11 *
HORIZONTAL_UNITS METERS *
HORIZONTAL_RESOLUTION 1.000 *
SECONDARY_HORIZONTAL_DATUM NAD27 *
XY_ORIGIN 261120.000 3925050.000 *
SECONDARY_XY_ORIGIN 261201.505 3924853.084 *
NATION US *
STATE CA *
NW_QUAD_CORNER_XY 261718.802 3924728.075 *
NE_QUAD_CORNER_XY 267393.428 3924579.025 *
SE_QUAD_CORNER_XY 267213.640 3917645.249 *
SW_QUAD_CORNER_XY 261534.620 3917794.186 *
SECONDARY_NW_QUAD_XY 261713.224 3924529.286 *
SECONDARY_NE_QUAD_XY 267387.983 3924380.233 *
SECONDARY_SE_QUAD_XY 267208.201 3917446.641 *
SECONDARY_SW_QUAD_XY 261529.047 3917595.581 *
RMSE_XY 0.900 *
IMAGE_SOURCE "BLACK AND WHITE FILM" *
SOURCE_IMAGE_ID "NAPP 6918 85" *
SOURCE_IMAGE_DATE 1994 05 10 *
SOURCE_DEM_DATE 1973 00 00 *
AGENCY "WESTERN MAPPING CENTER (WMC)" *
PRODUCER "ANALYTICAL SURVEYS INC." *
PRODUCTION_SYSTEM "ORBIT OR_RECTIFY V.5.2" *
STANDARD_VERSION 1996 12 *
METADATA_DATE 1998 12 07 *
DATA_FILE_SIZE 50892600 *
BYTE_COUNT 6600 * * * * * * * * * * * * * * * * * * * * * * * * * * * * * * * * * * * * * * * *
END_USGS_HEADER *
