BEGIN_USGS_DOQ_HEADER *
QUADRANGLE_NAME "BELRIDGE" *
QUADRANT NE *
NORTH_LATITUDE 35 30 00.000 *
WEST_LONGITUDE -119 41 15.000 *
SOUTH_LATITUDE 35 26 15.000 *
EAST_LONGITUDE -119 37 30.000 *
PRODUCTION_DATE 1998 12 01 *
RASTER_ORDER LEFT_RIGHT/TOP_BOTTOM *
BAND_ORGANIZATION "SINGLE FILE" *
BAND_CONTENT BLACK&WHITE *
BITS_PER_PIXEL 8 *
SAMPLES_AND_LINES 6600 7710 *
HORIZONTAL_DATUM NAD83 *
HORIZONTAL_COORDINATE_SYSTEM UTM *
COORDINATE_ZONE 11 *
HORIZONTAL_UNITS METERS *
HORIZONTAL_RESOLUTION 1.000 *
SECONDARY_HORIZONTAL_DATUM NAD27 *
XY_ORIGIN 255630.000 3932130.000 *
SECONDARY_XY_ORIGIN 255711.631 3931932.892 *
NATION US *
STATE CA *
NW_QUAD_CORNER_XY 256232.949 3931814.784 *
NE_QUAD_CORNER_XY 261903.267 3931662.020 *
SE_QUAD_CORNER_XY 261718.802 3924728.075 *
SW_QUAD_CORNER_XY 256044.082 3924880.724 *
SECONDARY_NW_QUAD_XY 256227.234 3931615.818 *
SECONDARY_NE_QUAD_XY 261897.685 3931463.050 *
SECONDARY_SE_QUAD_XY 261713.224 3924529.286 *
SECONDARY_SW_QUAD_XY 256038.371 3924681.939 *
RMSE_XY 0.750 *
IMAGE_SOURCE "BLACK AND WHITE FILM" *
SOURCE_IMAGE_ID "NAPP 6918 16" *
SOURCE_IMAGE_DATE 1994 05 10 *
SOURCE_DEM_DATE 1973 00 00 *
AGENCY "WESTERN MAPPING CENTER (WMC)" *
PRODUCER "ANALYTICAL SURVEYS INC." *
PRODUCTION_SYSTEM "ORBIT OR_RECTIFY V.5.2" *
STANDARD_VERSION 1996 12 *
METADATA_DATE 1998 12 03 *
DATA_FILE_SIZE 50892600 *
BYTE_COUNT 6600 * * * * * * * * * * * * * * * * * * * * * * * * * * * * * * * * * * * * * * * *
END_USGS_HEADER *
