BEGIN_USGS_DOQ_HEADER *
QUADRANGLE_NAME "BELRIDGE" *
QUADRANT SW *
NORTH_LATITUDE 35 26 15.000 *
WEST_LONGITUDE -119 45 00.000 *
SOUTH_LATITUDE 35 22 30.000 *
EAST_LONGITUDE -119 41 15.000 *
PRODUCTION_DATE 1998 12 01 *
RASTER_ORDER LEFT_RIGHT/TOP_BOTTOM *
BAND_ORGANIZATION "SINGLE FILE" *
BAND_CONTENT BLACK&WHITE *
BITS_PER_PIXEL 8 *
SAMPLES_AND_LINES 6570 7710 *
HORIZONTAL_DATUM NAD83 *
HORIZONTAL_COORDINATE_SYSTEM UTM *
COORDINATE_ZONE 11 *
HORIZONTAL_UNITS METERS *
HORIZONTAL_RESOLUTION 1.000 *
SECONDARY_HORIZONTAL_DATUM NAD27 *
XY_ORIGIN 249780.000 3925350.000 *
SECONDARY_XY_ORIGIN 249861.792 3925152.824 *
NATION US *
STATE CA *
NW_QUAD_CORNER_XY 250369.266 3925036.972 *
NE_QUAD_CORNER_XY 256044.082 3924880.724 *
SE_QUAD_CORNER_XY 255855.505 3917946.719 *
SW_QUAD_CORNER_XY 250176.294 3918102.849 *
SECONDARY_NW_QUAD_XY 250363.423 3924838.191 *
SECONDARY_NE_QUAD_XY 256038.371 3924681.939 *
SECONDARY_SE_QUAD_XY 255849.800 3917748.117 *
SECONDARY_SW_QUAD_XY 250170.456 3917904.251 *
RMSE_XY 3.790 *
IMAGE_SOURCE "BLACK AND WHITE FILM" *
SOURCE_IMAGE_ID "NAPP 6916 208" *
SOURCE_IMAGE_DATE 1994 05 02 *
SOURCE_DEM_DATE 1973 00 00 *
AGENCY "WESTERN MAPPING CENTER (WMC)" *
PRODUCER "ANALYTICAL SURVEYS INC." *
PRODUCTION_SYSTEM "ORBIT OR_RECTIFY V.5.2" *
STANDARD_VERSION 1996 12 *
METADATA_DATE 1998 12 03 *
DATA_FILE_SIZE 50661270 *
BYTE_COUNT 6570 * * * * * * * * * * * * * * * * * * * * * * * * * * * * * * * * * * * * * * * *
END_USGS_HEADER *
