BEGIN_USGS_DOQ_HEADER *
QUADRANGLE_NAME "CARNEROS ROCKS" *
QUADRANT NW *
NORTH_LATITUDE 35 30 00.000 *
WEST_LONGITUDE -119 52 30.000 *
SOUTH_LATITUDE 35 26 15.000 *
EAST_LONGITUDE -119 48 45.000 *
PRODUCTION_DATE 1998 12 01 *
RASTER_ORDER LEFT_RIGHT/TOP_BOTTOM *
BAND_ORGANIZATION "SINGLE FILE" *
BAND_CONTENT BLACK&WHITE *
BITS_PER_PIXEL 8 *
SAMPLES_AND_LINES 6600 7740 *
HORIZONTAL_DATUM NAD83 *
HORIZONTAL_COORDINATE_SYSTEM UTM *
COORDINATE_ZONE 11 *
HORIZONTAL_UNITS METERS *
HORIZONTAL_RESOLUTION 1.000 *
SECONDARY_HORIZONTAL_DATUM NAD27 *
XY_ORIGIN 238620.000 3932610.000 *
SECONDARY_XY_ORIGIN 238701.996 3932412.428 *
NATION US *
STATE CA *
NW_QUAD_CORNER_XY 239221.415 3932294.694 *
NE_QUAD_CORNER_XY 244892.025 3932131.121 *
SE_QUAD_CORNER_XY 244694.353 3925196.821 *
SW_QUAD_CORNER_XY 239019.339 3925360.271 *
SECONDARY_NW_QUAD_XY 239215.301 3932095.739 *
SECONDARY_NE_QUAD_XY 244886.044 3931932.162 *
SECONDARY_SE_QUAD_XY 244688.377 3924998.044 *
SECONDARY_SW_QUAD_XY 239013.230 3925161.498 *
RMSE_XY 1.240 *
IMAGE_SOURCE "BLACK AND WHITE FILM" *
SOURCE_IMAGE_ID "NAPP 6925 82" *
SOURCE_IMAGE_DATE 1994 06 01 *
SOURCE_DEM_DATE 1982 00 00 *
AGENCY "WESTERN MAPPING CENTER (WMC)" *
PRODUCER "ANALYTICAL SURVEYS INC." *
PRODUCTION_SYSTEM "ORBIT OR_RECTIFY V.5.2" *
STANDARD_VERSION 1996 12 *
METADATA_DATE 1998 12 03 *
DATA_FILE_SIZE 51090600 *
BYTE_COUNT 6600 * * * * * * * * * * * * * * * * * * * * * * * * * * * * * * * * * * * * * * * *
END_USGS_HEADER *
