BEGIN_USGS_DOQ_HEADER *
QUADRANGLE_NAME "CARNEROS ROCKS" *
QUADRANT SE *
NORTH_LATITUDE 35 26 15.000 *
WEST_LONGITUDE -119 48 45.000 *
SOUTH_LATITUDE 35 22 30.000 *
EAST_LONGITUDE -119 45 00.000 *
PRODUCTION_DATE 1998 12 01 *
RASTER_ORDER LEFT_RIGHT/TOP_BOTTOM *
BAND_ORGANIZATION "SINGLE FILE" *
BAND_CONTENT BLACK&WHITE *
BITS_PER_PIXEL 8 *
SAMPLES_AND_LINES 6600 7710 *
HORIZONTAL_DATUM NAD83 *
HORIZONTAL_COORDINATE_SYSTEM UTM *
COORDINATE_ZONE 11 *
HORIZONTAL_UNITS METERS *
HORIZONTAL_RESOLUTION 1.000 *
SECONDARY_HORIZONTAL_DATUM NAD27 *
XY_ORIGIN 244080.000 3925500.000 *
SECONDARY_XY_ORIGIN 244161.857 3925302.670 *
NATION US *
STATE CA *
NW_QUAD_CORNER_XY 244694.353 3925196.821 *
NE_QUAD_CORNER_XY 250369.266 3925036.972 *
SE_QUAD_CORNER_XY 250176.294 3918102.849 *
SW_QUAD_CORNER_XY 244496.985 3918262.577 *
SECONDARY_NW_QUAD_XY 244688.377 3924998.044 *
SECONDARY_NE_QUAD_XY 250363.423 3924838.191 *
SECONDARY_SE_QUAD_XY 250170.456 3917904.251 *
SECONDARY_SW_QUAD_XY 244491.014 3918063.982 *
RMSE_XY 3.740 *
IMAGE_SOURCE "BLACK AND WHITE FILM" *
SOURCE_IMAGE_ID "NAPP 6925 79" *
SOURCE_IMAGE_DATE 1994 06 01 *
SOURCE_DEM_DATE 1982 00 00 *
AGENCY "WESTERN MAPPING CENTER (WMC)" *
PRODUCER "ANALYTICAL SURVEYS INC." *
PRODUCTION_SYSTEM "ORBIT OR_RECTIFY V.5.2" *
STANDARD_VERSION 1996 12 *
METADATA_DATE 1998 12 03 *
DATA_FILE_SIZE 50892600 *
BYTE_COUNT 6600 * * * * * * * * * * * * * * * * * * * * * * * * * * * * * * * * * * * * * * * *
END_USGS_HEADER *
