BEGIN_USGS_DOQ_HEADER *
QUADRANGLE_NAME "LAS YEGUAS RANCH" *
QUADRANT NE *
NORTH_LATITUDE 35 30 00.000 *
WEST_LONGITUDE -119 56 15.000 *
SOUTH_LATITUDE 35 26 15.000 *
EAST_LONGITUDE -119 52 30.000 *
PRODUCTION_DATE 1998 12 01 *
RASTER_ORDER LEFT_RIGHT/TOP_BOTTOM *
BAND_ORGANIZATION "SINGLE FILE" *
BAND_CONTENT BLACK&WHITE *
BITS_PER_PIXEL 8 *
SAMPLES_AND_LINES 6600 7740 *
HORIZONTAL_DATUM NAD83 *
HORIZONTAL_COORDINATE_SYSTEM UTM *
COORDINATE_ZONE 11 *
HORIZONTAL_UNITS METERS *
HORIZONTAL_RESOLUTION 1.000 *
SECONDARY_HORIZONTAL_DATUM NAD27 *
XY_ORIGIN 232950.000 3932790.000 *
SECONDARY_XY_ORIGIN 233032.098 3932592.263 *
NATION US *
STATE CA *
NW_QUAD_CORNER_XY 233550.704 3932461.872 *
NE_QUAD_CORNER_XY 239221.415 3932294.694 *
SE_QUAD_CORNER_XY 239019.339 3925360.271 *
SW_QUAD_CORNER_XY 233344.223 3925527.323 *
SECONDARY_NW_QUAD_XY 233544.456 3932262.920 *
SECONDARY_NE_QUAD_XY 239215.301 3932095.739 *
SECONDARY_SE_QUAD_XY 239013.230 3925161.498 *
SECONDARY_SW_QUAD_XY 233337.981 3925328.553 *
RMSE_XY 2.540 *
IMAGE_SOURCE "BLACK AND WHITE FILM" *
SOURCE_IMAGE_ID "NAPP 6924 53" *
SOURCE_IMAGE_DATE 1994 05 29 *
SOURCE_DEM_DATE 1959 00 00 *
AGENCY "WESTERN MAPPING CENTER (WMC)" *
PRODUCER "ANALYTICAL SURVEYS INC." *
PRODUCTION_SYSTEM "ORBIT OR_RECTIFY V.5.2" *
STANDARD_VERSION 1996 12 *
METADATA_DATE 1998 12 03 *
DATA_FILE_SIZE 51090600 *
BYTE_COUNT 6600 * * * * * * * * * * * * * * * * * * * * * * * * * * * * * * * * * * * * * * * *
END_USGS_HEADER *
