BEGIN_USGS_DOQ_HEADER *
QUADRANGLE_NAME "LAS YEGUAS RANCH" *
QUADRANT SE *
NORTH_LATITUDE 35 26 15.000 *
WEST_LONGITUDE -119 56 15.000 *
SOUTH_LATITUDE 35 22 30.000 *
EAST_LONGITUDE -119 52 30.000 *
PRODUCTION_DATE 1998 12 01 *
RASTER_ORDER LEFT_RIGHT/TOP_BOTTOM *
BAND_ORGANIZATION "SINGLE FILE" *
BAND_CONTENT BLACK&WHITE *
BITS_PER_PIXEL 8 *
SAMPLES_AND_LINES 6600 7710 *
HORIZONTAL_DATUM NAD83 *
HORIZONTAL_COORDINATE_SYSTEM UTM *
COORDINATE_ZONE 11 *
HORIZONTAL_UNITS METERS *
HORIZONTAL_RESOLUTION 1.000 *
SECONDARY_HORIZONTAL_DATUM NAD27 *
XY_ORIGIN 232740.000 3925830.000 *
SECONDARY_XY_ORIGIN 232822.002 3925632.362 *
NATION US *
STATE CA *
NW_QUAD_CORNER_XY 233344.223 3925527.323 *
NE_QUAD_CORNER_XY 239019.339 3925360.271 *
SE_QUAD_CORNER_XY 238817.574 3918425.902 *
SW_QUAD_CORNER_XY 233138.060 3918592.827 *
SECONDARY_NW_QUAD_XY 233337.981 3925328.553 *
SECONDARY_NE_QUAD_XY 239013.230 3925161.498 *
SECONDARY_SE_QUAD_XY 238811.470 3918227.312 *
SECONDARY_SW_QUAD_XY 233131.823 3918394.240 *
RMSE_XY 2.290 *
IMAGE_SOURCE "BLACK AND WHITE FILM" *
SOURCE_IMAGE_ID "NAPP 6924 55" *
SOURCE_IMAGE_DATE 1994 05 29 *
SOURCE_DEM_DATE 1959 00 00 *
AGENCY "WESTERN MAPPING CENTER (WMC)" *
PRODUCER "ANALYTICAL SURVEYS INC." *
PRODUCTION_SYSTEM "ORBIT OR_RECTIFY V.5.2" *
STANDARD_VERSION 1996 12 *
METADATA_DATE 1998 12 03 *
DATA_FILE_SIZE 50892600 *
BYTE_COUNT 6600 * * * * * * * * * * * * * * * * * * * * * * * * * * * * * * * * * * * * * * * *
END_USGS_HEADER *
