BEGIN_USGS_DOQ_HEADER *
QUADRANGLE_NAME "LAS YEGUAS RANCH" *
QUADRANT SW *
NORTH_LATITUDE 35 26 15.000 *
WEST_LONGITUDE -120 00 00.000 *
SOUTH_LATITUDE 35 22 30.000 *
EAST_LONGITUDE -119 56 15.000 *
PRODUCTION_DATE 1998 12 01 *
RASTER_ORDER LEFT_RIGHT/TOP_BOTTOM *
BAND_ORGANIZATION "SINGLE FILE" *
BAND_CONTENT BLACK&WHITE *
BITS_PER_PIXEL 8 *
SAMPLES_AND_LINES 6600 7740 *
HORIZONTAL_DATUM NAD83 *
HORIZONTAL_COORDINATE_SYSTEM UTM *
COORDINATE_ZONE 11 *
HORIZONTAL_UNITS METERS *
HORIZONTAL_RESOLUTION 1.000 *
SECONDARY_HORIZONTAL_DATUM NAD27 *
XY_ORIGIN 227070.000 3926010.000 *
SECONDARY_XY_ORIGIN 227152.075 3925812.208 *
NATION US *
STATE CA *
NW_QUAD_CORNER_XY 227669.002 3925697.976 *
NE_QUAD_CORNER_XY 233344.223 3925527.323 *
SE_QUAD_CORNER_XY 233138.060 3918592.827 *
SW_QUAD_CORNER_XY 227458.441 3918763.351 *
SECONDARY_NW_QUAD_XY 227662.627 3925499.211 *
SECONDARY_NE_QUAD_XY 233337.981 3925328.553 *
SECONDARY_SE_QUAD_XY 233131.823 3918394.240 *
SECONDARY_SW_QUAD_XY 227452.071 3918564.768 *
RMSE_XY 2.470 *
IMAGE_SOURCE "BLACK AND WHITE FILM" *
SOURCE_IMAGE_ID "NAPP 6924 48" *
SOURCE_IMAGE_DATE 1994 05 29 *
SOURCE_DEM_DATE 1959 00 00 *
AGENCY "WESTERN MAPPING CENTER (WMC)" *
PRODUCER "ANALYTICAL SURVEYS INC." *
PRODUCTION_SYSTEM "ORBIT OR_RECTIFY V.5.2" *
STANDARD_VERSION 1996 12 *
METADATA_DATE 1998 12 03 *
DATA_FILE_SIZE 51090600 *
BYTE_COUNT 6600 * * * * * * * * * * * * * * * * * * * * * * * * * * * * * * * * * * * * * * * *
END_USGS_HEADER *
