BEGIN_USGS_DOQ_HEADER *
QUADRANGLE_NAME "NORTH OF OILDALE" *
QUADRANT NW *
NORTH_LATITUDE 35 37 30.000 *
WEST_LONGITUDE -119 07 30.000 *
SOUTH_LATITUDE 35 33 45.000 *
EAST_LONGITUDE -119 03 45.000 *
PRODUCTION_DATE 1998 12 03 *
RASTER_ORDER LEFT_RIGHT/TOP_BOTTOM *
BAND_ORGANIZATION "SINGLE FILE" *
BAND_CONTENT BLACK&WHITE *
BITS_PER_PIXEL 8 *
SAMPLES_AND_LINES 6510 7710 *
HORIZONTAL_DATUM NAD83 *
HORIZONTAL_COORDINATE_SYSTEM UTM *
COORDINATE_ZONE 11 *
HORIZONTAL_UNITS METERS *
HORIZONTAL_RESOLUTION 1.000 *
SECONDARY_HORIZONTAL_DATUM NAD27 *
XY_ORIGIN 307020.000 3944760.000 *
SECONDARY_XY_ORIGIN 307100.481 3944563.788 *
NATION US *
STATE CA *
NW_QUAD_CORNER_XY 307561.893 3944435.959 *
NE_QUAD_CORNER_XY 313222.642 3944315.413 *
SE_QUAD_CORNER_XY 313077.317 3937382.258 *
SW_QUAD_CORNER_XY 307412.158 3937502.714 *
SECONDARY_NW_QUAD_XY 307557.367 3944236.600 *
SECONDARY_NE_QUAD_XY 313218.249 3944116.052 *
SECONDARY_SE_QUAD_XY 313072.928 3937183.078 *
SECONDARY_SW_QUAD_XY 307407.636 3937303.536 *
RMSE_XY 1.300 *
IMAGE_SOURCE "BLACK AND WHITE FILM" *
SOURCE_IMAGE_ID "NAPP 6927 131" *
SOURCE_IMAGE_DATE 1994 09 04 *
SOURCE_DEM_DATE 1946 00 00 *
AGENCY "WESTERN MAPPING CENTER (WMC)" *
PRODUCER "ANALYTICAL SURVEYS INC." *
PRODUCTION_SYSTEM "ORBIT OR_RECTIFY V.5.2" *
STANDARD_VERSION 1996 12 *
METADATA_DATE 1998 12 09 *
DATA_FILE_SIZE 50198610 *
BYTE_COUNT 6510 * * * * * * * * * * * * * * * * * * * * * * * * * * * * * * * * * * * * * * *
END_USGS_HEADER *
