BEGIN_USGS_DOQ_HEADER *
QUADRANGLE_NAME "NORTH OF OILDALE" *
QUADRANT SE *
NORTH_LATITUDE 35 33 45.000 *
WEST_LONGITUDE -119 03 45.000 *
SOUTH_LATITUDE 35 30 00.000 *
EAST_LONGITUDE -119 00 00.000 *
PRODUCTION_DATE 1998 12 03 *
RASTER_ORDER LEFT_RIGHT/TOP_BOTTOM *
BAND_ORGANIZATION "SINGLE FILE" *
BAND_CONTENT BLACK&WHITE *
BITS_PER_PIXEL 8 *
SAMPLES_AND_LINES 6510 7710 *
HORIZONTAL_DATUM NAD83 *
HORIZONTAL_COORDINATE_SYSTEM UTM *
COORDINATE_ZONE 11 *
HORIZONTAL_UNITS METERS *
HORIZONTAL_RESOLUTION 1.000 *
SECONDARY_HORIZONTAL_DATUM NAD27 *
XY_ORIGIN 312540.000 3937710.000 *
SECONDARY_XY_ORIGIN 312620.446 3937513.981 *
NATION US *
STATE CA *
NW_QUAD_CORNER_XY 313077.317 3937382.258 *
NE_QUAD_CORNER_XY 318742.403 3937265.403 *
SE_QUAD_CORNER_XY 318601.703 3930332.399 *
SW_QUAD_CORNER_XY 312932.215 3930449.166 *
SECONDARY_NW_QUAD_XY 313072.928 3937183.078 *
SECONDARY_NE_QUAD_XY 318738.147 3937066.220 *
SECONDARY_SE_QUAD_XY 318597.451 3930133.397 *
SECONDARY_SW_QUAD_XY 312927.830 3930250.167 *
RMSE_XY 3.210 *
IMAGE_SOURCE "BLACK AND WHITE FILM" *
SOURCE_IMAGE_ID "NAPP 6921 257" *
SOURCE_IMAGE_DATE 1994 09 03 *
SOURCE_DEM_DATE 1946 00 00 *
AGENCY "WESTERN MAPPING CENTER (WMC)" *
PRODUCER "ANALYTICAL SURVEYS INC." *
PRODUCTION_SYSTEM "ORBIT OR_RECTIFY V.5.2" *
STANDARD_VERSION 1996 12 *
METADATA_DATE 1998 12 09 *
DATA_FILE_SIZE 50198610 *
BYTE_COUNT 6510 * * * * * * * * * * * * * * * * * * * * * * * * * * * * * * * * * * * * * * *
END_USGS_HEADER *
