BEGIN_USGS_DOQ_HEADER *
QUADRANGLE_NAME "NORTH OF OILDALE" *
QUADRANT SW *
NORTH_LATITUDE 35 33 45.000 *
WEST_LONGITUDE -119 07 30.000 *
SOUTH_LATITUDE 35 30 00.000 *
EAST_LONGITUDE -119 03 45.000 *
PRODUCTION_DATE 1998 12 03 *
RASTER_ORDER LEFT_RIGHT/TOP_BOTTOM *
BAND_ORGANIZATION "SINGLE FILE" *
BAND_CONTENT BLACK&WHITE *
BITS_PER_PIXEL 8 *
SAMPLES_AND_LINES 6510 7710 *
HORIZONTAL_DATUM NAD83 *
HORIZONTAL_COORDINATE_SYSTEM UTM *
COORDINATE_ZONE 11 *
HORIZONTAL_UNITS METERS *
HORIZONTAL_RESOLUTION 1.000 *
SECONDARY_HORIZONTAL_DATUM NAD27 *
XY_ORIGIN 306870.000 3937830.000 *
SECONDARY_XY_ORIGIN 306950.538 3937633.864 *
NATION US *
STATE CA *
NW_QUAD_CORNER_XY 307412.158 3937502.714 *
NE_QUAD_CORNER_XY 313077.317 3937382.258 *
SE_QUAD_CORNER_XY 312932.215 3930449.166 *
SW_QUAD_CORNER_XY 307262.653 3930569.531 *
SECONDARY_NW_QUAD_XY 307407.636 3937303.536 *
SECONDARY_NE_QUAD_XY 313072.928 3937183.078 *
SECONDARY_SE_QUAD_XY 312927.830 3930250.167 *
SECONDARY_SW_QUAD_XY 307258.135 3930370.535 *
RMSE_XY 1.370 *
IMAGE_SOURCE "BLACK AND WHITE FILM" *
SOURCE_IMAGE_ID "NAPP 6927 133" *
SOURCE_IMAGE_DATE 1994 09 04 *
SOURCE_DEM_DATE 1946 00 00 *
AGENCY "WESTERN MAPPING CENTER (WMC)" *
PRODUCER "ANALYTICAL SURVEYS INC." *
PRODUCTION_SYSTEM "ORBIT OR_RECTIFY V.5.2" *
STANDARD_VERSION 1996 12 *
METADATA_DATE 1998 12 09 *
DATA_FILE_SIZE 50198610 *
BYTE_COUNT 6510 * * * * * * * * * * * * * * * * * * * * * * * * * * * * * * * * * * * * * * *
END_USGS_HEADER *
