BEGIN_USGS_DOQ_HEADER *
QUADRANGLE_NAME "FAMOSO" *
QUADRANT SE *
NORTH_LATITUDE 35 33 45.000 *
WEST_LONGITUDE -119 11 15.000 *
SOUTH_LATITUDE 35 30 00.000 *
EAST_LONGITUDE -119 07 30.000 *
PRODUCTION_DATE 1998 12 03 *
RASTER_ORDER LEFT_RIGHT/TOP_BOTTOM *
BAND_ORGANIZATION "SINGLE FILE" *
BAND_CONTENT BLACK&WHITE *
BITS_PER_PIXEL 8 *
SAMPLES_AND_LINES 6540 7710 *
HORIZONTAL_DATUM NAD83 *
HORIZONTAL_COORDINATE_SYSTEM UTM *
COORDINATE_ZONE 11 *
HORIZONTAL_UNITS METERS *
HORIZONTAL_RESOLUTION 1.000 *
SECONDARY_HORIZONTAL_DATUM NAD27 *
XY_ORIGIN 301200.000 3937950.000 *
SECONDARY_XY_ORIGIN 301280.631 3937753.747 *
NATION US *
STATE CA *
NW_QUAD_CORNER_XY 301746.925 3937626.770 *
NE_QUAD_CORNER_XY 307412.158 3937502.714 *
SE_QUAD_CORNER_XY 307262.653 3930569.531 *
SW_QUAD_CORNER_XY 301593.016 3930693.495 *
SECONDARY_NW_QUAD_XY 301742.270 3937427.596 *
SECONDARY_NE_QUAD_XY 307407.636 3937303.536 *
SECONDARY_SE_QUAD_XY 307258.135 3930370.535 *
SECONDARY_SW_QUAD_XY 301588.366 3930494.501 *
RMSE_XY 0.790 *
IMAGE_SOURCE "BLACK AND WHITE FILM" *
SOURCE_IMAGE_ID "NAPP 6927 65" *
SOURCE_IMAGE_DATE 1994 09 04 *
SOURCE_DEM_DATE 1992 00 00 *
AGENCY "WESTERN MAPPING CENTER (WMC)" *
PRODUCER "ANALYTICAL SURVEYS INC." *
PRODUCTION_SYSTEM "ORBIT OR_RECTIFY V.5.2" *
STANDARD_VERSION 1996 12 *
METADATA_DATE 1998 12 08 *
DATA_FILE_SIZE 50429940 *
BYTE_COUNT 6540 *
*
*
*
*
*
*
*
*
*
*
*
*
*
*
*
*
*
*
*
*
*
*
*
*
*
*
*
*
*
*
*
*
*
*
*
*
*
*
END_USGS_HEADER *